BEGIN:VCALENDAR
VERSION:2.0
CALSCALE:GREGORIAN
PRODID:adamgibbons/ics
METHOD:PUBLISH
X-PUBLISHED-TTL:PT1H
BEGIN:VEVENT
UID:67@dubagenda.top
SUMMARY:House Of Vibes #11 // Spectacular - Conquering Sound - Krak In Dub
DTSTAMP:20260421T152127Z
DTSTART:20251213T200000Z
DTEND:20251214T010000Z
DESCRIPTION:𝗛𝗢𝗨𝗦𝗘 𝗢𝗙 𝗩𝗜𝗕𝗘𝗦 #𝟭𝟭 //𝗚𝗥𝗔𝗧𝗨𝗜𝗧//\nNotre special guest nous vient 
	tout droit de KINGSTON\, JAMAICA. Une énergie\ncontagieuse\, une voix inim
	itable\, j'ai nommé: SPECTACULAR !\nIl sera backé par le CONQUERING SOUND 
	d'Avignon.\nLe tout présenté par notre résident 𝗞𝗿𝗮𝗸 𝗶𝗻 𝗗𝘂𝗯.\n✨ SPECTACULA
	R\nUne voix\, un son\, un message. Spectacular connu également sous le nom
	 de Burning\nSpectacular incarne la force et l'énergie des artistes rastas
	 jamaïcains.\nProfondément habité et inspiré\, il ne laisse personne indif
	férent. Son parcours\nde vie nourrit son art depuis son enfance dans les g
	hettos de Kingston jusqu'au\ncommencement de sa carrière qui le mènera à c
	ollaborer avec les plus grands\nproducteurs de l'île et à voyager partout 
	dans le monde. Son nouvel album "STAY\nUP" est sorti en 2025 chez Carabeo 
	Music.\n✨ CONQUERING SOUND\nEntertainers compulsifs depuis leurs débuts en
	 2009 et mordus de musiques\njamaïcaines\, Ju-Lion et Green Ben transforme
	nt chaque soirée en un voyage\nintense au cœur de la culture sound system.
	 La paire DJ/MC s’est forgée une\nsolide réputation. Des stations alpines 
	aux Zéniths en passant par des festivals\naux côtés d’artistes comme Antho
	ny B\, Skarra Mucci\, General Levy\, Queen Omega ou\nJah Mason\, leur seul
	 objectif : enflammer le dancehall.\n✨ 𝗞𝗥𝗔𝗞 𝗜𝗡 𝗗𝗨𝗕 / 𝗛𝗢𝗨𝗦𝗘 𝗢𝗙 𝗩𝗜𝗕𝗘𝗦 / 𝗥𝗘𝗦𝗜
	-𝗗𝗔𝗡𝗖𝗘 !!!\nVous commencez à le connaitre? 😉 Il sera encore là!\n🍺 𝗕𝗜𝗘̀𝗥𝗘𝗦
	 𝗕𝗥𝗔𝗦𝗦𝗘́𝗘𝗦 𝗦𝗨𝗥 𝗣𝗟𝗔𝗖𝗘\, 𝗥𝗘𝗦𝗧𝗔𝗨𝗥𝗔𝗧𝗜𝗢𝗡\n𝗧𝗢𝗣\, 𝗠𝗨𝗦𝗜𝗤𝗨𝗘 𝗘𝗧 𝗦𝗨𝗥𝗧𝗢𝗨𝗧... 𝗗𝗔𝗡𝗖𝗘 ! 💃
	\n⭐ Entrée gratuite\n📅 Samedi 19 avril 2025\n🍽️ Restauration sur place\n⏰ 2
	1 h\n📍 23 Bd de Chantenay\, Nantes\n🚲 À vélo : stationnements disponibles\
	n🛥 En bateau : Navibus arrêt bas-chantenay (depuis le Hangar à Bananes)\n🚌
	 En bus : C1\, C20\, 81 & 10
URL:https://dubagenda.top/event/house-of-vibes-11-spectacular-conquering-so
	und-krak-in-dub
GEO:47.1961199;-1.5890314
LOCATION:44100 Nantes // Little Atlantique Brewery - Little Atlantique Brew
	ery\, Boulevard de Chantenay\, Cheviré - Zone portuaire\, Bellevue - Chant
	enay - Sainte-Anne\, Nantes\, Loire-Atlantique\, Pays de la Loire\, France
	 métropolitaine\, 44100\, France
STATUS:CONFIRMED
CATEGORIES:2025,Nantes,Sound System
X-ALT-DESC;FMTTYPE=text/html:<p>𝗛𝗢𝗨𝗦𝗘 𝗢𝗙 𝗩𝗜𝗕𝗘𝗦 #𝟭𝟭 //𝗚𝗥𝗔𝗧𝗨𝗜𝗧//<br>Notre spe
	cial guest nous vient tout droit de KINGSTON, JAMAICA. Une énergie contagi
	euse, une voix inimitable, j'ai nommé: SPECTACULAR !<br>Il sera backé par 
	le CONQUERING SOUND d'Avignon.<br>Le tout présenté par notre résident 𝗞𝗿𝗮𝗸
	 𝗶𝗻 𝗗𝘂𝗯.<br>✨ SPECTACULAR<br>Une voix, un son, un message. Spectacular con
	nu également sous le nom de Burning Spectacular incarne la force et l'éner
	gie des artistes rastas jamaïcains. Profondément habité et inspiré, il ne 
	laisse personne indifférent. Son parcours de vie nourrit son art depuis so
	n enfance dans les ghettos de Kingston jusqu'au commencement de sa carrièr
	e qui le mènera à collaborer avec les plus grands producteurs de l'île et 
	à voyager partout dans le monde. Son nouvel album "STAY UP" est sorti en 2
	025 chez Carabeo Music.<br>✨ CONQUERING SOUND<br>Entertainers compulsifs d
	epuis leurs débuts en 2009 et mordus de musiques jamaïcaines, Ju-Lion et G
	reen Ben transforment chaque soirée en un voyage intense au cœur de la cul
	ture sound system. La paire DJ/MC s’est forgée une solide réputation. Des 
	stations alpines aux Zéniths en passant par des festivals aux côtés d’arti
	stes comme Anthony B, Skarra Mucci, General Levy, Queen Omega ou Jah Mason
	, leur seul objectif : enflammer le dancehall.<br>✨ 𝗞𝗥𝗔𝗞 𝗜𝗡 𝗗𝗨𝗕 / 𝗛𝗢𝗨𝗦𝗘 𝗢𝗙
	 𝗩𝗜𝗕𝗘𝗦 / 𝗥𝗘𝗦𝗜-𝗗𝗔𝗡𝗖𝗘 !!!<br>Vous commencez à le connaitre? 😉 Il sera encore
	 là!<br>🍺 𝗕𝗜𝗘̀𝗥𝗘𝗦 𝗕𝗥𝗔𝗦𝗦𝗘́𝗘𝗦 𝗦𝗨𝗥 𝗣𝗟𝗔𝗖𝗘, 𝗥𝗘𝗦𝗧𝗔𝗨𝗥𝗔𝗧𝗜𝗢𝗡 𝗧𝗢𝗣, 𝗠𝗨𝗦𝗜𝗤𝗨𝗘 𝗘𝗧 𝗦𝗨𝗥𝗧𝗢𝗨
	𝗧... 𝗗𝗔𝗡𝗖𝗘 ! 💃<br>⭐ Entrée gratuite<br>📅 Samedi 19 avril 2025<br>🍽️ Restaur
	ation sur place<br>⏰ 21 h<br>📍 23 Bd de Chantenay, Nantes<br>🚲 À vélo : st
	ationnements disponibles<br>🛥 En bateau : Navibus arrêt bas-chantenay (dep
	uis le Hangar à Bananes)<br>🚌 En bus : C1, C20, 81 &amp; 10 </p>
BEGIN:VALARM
ACTION:DISPLAY
DESCRIPTION:House Of Vibes #11 // Spectacular - Conquering Sound - Krak In 
	Dub
TRIGGER:-PT1H
END:VALARM
END:VEVENT
END:VCALENDAR
