BEGIN:VCALENDAR
VERSION:2.0
CALSCALE:GREGORIAN
PRODID:adamgibbons/ics
METHOD:PUBLISH
X-PUBLISHED-TTL:PT1H
BEGIN:VEVENT
UID:51@dubagenda.top
SUMMARY:House of Vibes #10  / Ondubground & Twan Tee
DTSTAMP:20260421T152128Z
DTSTART:20251004T190000Z
DTEND:20251005T000000Z
DESCRIPTION:𝐇𝐎𝐔𝐒𝐄 𝐎𝐅 𝐕𝐈𝐁𝐄𝐒 #10 //GRATUIT//\nC'est la rentée de HOUSE OF VIB
	ES\nOn est trop contents de lancer notre 3ème saison au LAB!\nDu coup on c
	ommence avec du LOURD:\nONDUBGROUND en live avec TWAN TEE au Microphone!!!
	\nLe tout présenté par notre résident Krak in Dub.\nONDUBGROUND: c’est une
	 histoire de famille. Deux frères musiciens originaires de\nTours\, Paul «
	 Art-X » et Simon « Olo »\, lancent en 2004 un projet musical avec\nun obj
	ectif : fusionner les styles et les sonorités électroniques.\nLargement in
	spiré par le « frenchdub » des années 2000\, par la culture anglaise\ndu d
	ub sound-system et de la bass music\, ODG fait la synthèse de ces influenc
	es\nmusicales et propose sur scène une représentation à mi-chemin entre un
	 live\nélectronique et instrumental.\nTWAN TEE: attention talent! Twan Tee
	 poursuit son ascension\,\nson flow - couplé à des productions musicales a
	udacieuses qui mêlent reggae/dub\,\nbass music\, dancehall et trap - a per
	mis à TWAN TEE d’imposer un univers bien à\nlui.\nSes deux premiers albums
	 avaient déjà été accueillis avec enthousiasme! Ces\ndernières années ont 
	été fructueuses pour TWAN TEE qui a su se faire une belle\nplace sur la sc
	ène reggae/dub.\nMultipliant les collaborations\, on a pu le voir sur les 
	albums de Volodia\,\nKandee\, Supa Mana\, Ondubground. Sur scène aussi il 
	multiplie ses apparitions\,\nfoulant la scène du New Morning et celles de 
	festivals de reggae renommés tel\nque le Sun Ska\, le NoLogo ou encore Ter
	re du Son.\nKRAK IN DUB / HOUSE OF VIBES / RESI-DANCE !!!\nVous commencez 
	à le connaitre? 😉 Il sera encore là!\n🍺 𝑩𝒊𝒆𝒓𝒆𝒔 𝒃𝒓𝒂𝒔𝒔𝒆𝒆𝒔 𝒔𝒖𝒓 𝒑𝒍𝒂𝒄𝒆\, 𝒓𝒆𝒔𝒕𝒂𝒖
	𝒓𝒂𝒕𝒊𝒐𝒏\n𝒕𝒐𝒑\, 𝒎𝒖𝒔𝒊𝒒𝒖𝒆 𝒆𝒕 𝒔𝒖𝒓𝒕𝒐𝒖𝒕 𝑫𝑨𝑵𝑪𝑬 !!! 💃\n⭐ Entrée gratuite\n📅 Samedi 
	19 avril 2025\n🍽️ Restauration sur place\n⏰ 21 h\n📍 23 Bd de Chantenay\, Na
	ntes\n🚲 À vélo : stationnements disponibles\n🛥 En bateau : Navibus arrêt b
	as-chantenay (depuis le Hangar à Bananes)\n🚌 En bus : C1\, C20\, 81 & 10
URL:https://dubagenda.top/event/house-of-vibes-10-ondubground-and-twan-tee
GEO:47.1961199;-1.5890314
LOCATION:44100 Nantes // Little Atlantique Brewery - Little Atlantique Brew
	ery\, Boulevard de Chantenay\, Cheviré - Zone portuaire\, Bellevue - Chant
	enay - Sainte-Anne\, Nantes\, Loire-Atlantique\, Pays de la Loire\, France
	 métropolitaine\, 44100\, France
STATUS:CONFIRMED
CATEGORIES:2025,Nantes,Sound System
X-ALT-DESC;FMTTYPE=text/html:<p>𝐇𝐎𝐔𝐒𝐄 𝐎𝐅 𝐕𝐈𝐁𝐄𝐒 #10 //GRATUIT//<br>C'est la 
	rentée de HOUSE OF VIBES<br>On est trop contents de lancer notre 3ème sais
	on au LAB!<br>Du coup on commence avec du LOURD:<br>ONDUBGROUND en live av
	ec TWAN TEE au Microphone!!!<br>Le tout présenté par notre résident Krak i
	n Dub.<br>ONDUBGROUND: c’est une histoire de famille. Deux frères musicien
	s originaires de Tours, Paul « Art-X » et Simon « Olo », lancent en 2004 u
	n projet musical avec un objectif : fusionner les styles et les sonorités 
	électroniques.<br>Largement inspiré par le « frenchdub » des années 2000, 
	par la culture anglaise du dub sound-system et de la bass music, ODG fait 
	la synthèse de ces influences musicales et propose sur scène une représent
	ation à mi-chemin entre un live électronique et instrumental.<br>TWAN TEE:
	 attention talent! Twan Tee poursuit son ascension,<br>son flow - couplé à
	 des productions musicales audacieuses qui mêlent reggae/dub, bass music, 
	dancehall et trap - a permis à TWAN TEE d’imposer un univers bien à lui.<b
	r>Ses deux premiers albums avaient déjà été accueillis avec enthousiasme! 
	Ces dernières années ont été fructueuses pour TWAN TEE qui a su se faire u
	ne belle place sur la scène reggae/dub.<br>Multipliant les collaborations,
	 on a pu le voir sur les albums de Volodia, Kandee, Supa Mana, Ondubground
	. Sur scène aussi il multiplie ses apparitions, foulant la scène du New Mo
	rning et celles de festivals de reggae renommés tel que le Sun Ska, le NoL
	ogo ou encore Terre du Son.<br>KRAK IN DUB / HOUSE OF VIBES / RESI-DANCE !
	!!<br>Vous commencez à le connaitre? 😉 Il sera encore là!<br>🍺 𝑩𝒊𝒆𝒓𝒆𝒔 𝒃𝒓𝒂𝒔
	𝒔𝒆𝒆𝒔 𝒔𝒖𝒓 𝒑𝒍𝒂𝒄𝒆, 𝒓𝒆𝒔𝒕𝒂𝒖𝒓𝒂𝒕𝒊𝒐𝒏 𝒕𝒐𝒑, 𝒎𝒖𝒔𝒊𝒒𝒖𝒆 𝒆𝒕 𝒔𝒖𝒓𝒕𝒐𝒖𝒕 𝑫𝑨𝑵𝑪𝑬 !!! 💃<br>⭐ Entr
	ée gratuite<br>📅 Samedi 19 avril 2025<br>🍽️ Restauration sur place<br>⏰ 21 
	h<br>📍 23 Bd de Chantenay, Nantes<br>🚲 À vélo : stationnements disponibles
	<br>🛥 En bateau : Navibus arrêt bas-chantenay (depuis le Hangar à Bananes)
	<br>🚌 En bus : C1, C20, 81 &amp; 10</p>
BEGIN:VALARM
ACTION:DISPLAY
DESCRIPTION:House of Vibes #10  / Ondubground & Twan Tee
TRIGGER:-PT1H
END:VALARM
END:VEVENT
END:VCALENDAR
