BEGIN:VCALENDAR
VERSION:2.0
CALSCALE:GREGORIAN
PRODID:adamgibbons/ics
METHOD:PUBLISH
X-PUBLISHED-TTL:PT1H
BEGIN:VEVENT
UID:8@dubagenda.top
SUMMARY:HOUSE OF DUB #5
DTSTAMP:20260421T151748Z
DTSTART:20251122T200000Z
DTEND:20251123T040000Z
DESCRIPTION:HOUSE OF DUB #5\nGLAZ ARENA - CESSON-SÉVIGNÉ (RENNES)\nSAMEDI 2
	2 NOVEMBRE 2025 - 21:00 > 5:00\n \n\nLES PREMIERS NOMS :\n\n> ATILI x TELL
	Y*\n\n> JAEL.\n\n> ODGPROD DJ SET\n\n> SINAI SOUNDSYSTEM\n\n> ESAÏA LIVE \
	n\n& MORE ....\n\n \n\n\nSuite de la programmation : septembre 2025\n\n▬▬▬
	▬▬▬▬▬▬▬\n\nDes origines roots au futur électronique\, HOUSE OF DUB accueil
	lera la crème de\nla « bass culture » et sera le temps d’une nuit\, une ma
	ison pour tous .. All\ntribes\, Welcome !\n\n▬▬▬▬▬▬▬▬▬▬\n// Cet événement 
	est INTERDIT AUX MINEURS – Preuve d’identité avec photo\nobligatoire.\n// 
	Nous nous réservons le droit de refuser l’accès aux personnes en état\nd’i
	vresse\, même détenteur d’un billet."
URL:https://dubagenda.top/event/house-of-dub-5
GEO:48.1132095;-1.5953745
LOCATION:35510 Cesson-Sevigné // Glaz Arena - Chemin du Bois de la Justice\
	, La Rigourdière\, Champagné\, Cesson-Sévigné\, Rennes\, Ille-et-Vilaine\,
	 Bretagne\, France métropolitaine\, 35510\, France
STATUS:CONFIRMED
CATEGORIES:2025,Ouest,35,Sound System
X-ALT-DESC;FMTTYPE=text/html:<p><strong>HOUSE OF DUB #5</strong><br>GLAZ AR
	ENA - CESSON-SÉVIGNÉ (RENNES)<br>SAMEDI 22 NOVEMBRE 2025 - 21:00 &gt; 5:00
	<br>&nbsp;</p><p><strong>LES PREMIERS NOMS :</strong><br><br>&gt; ATILI x 
	TELLY*</p><p>&gt; JAEL.</p><p>&gt; ODGPROD DJ SET</p><p>&gt; SINAI SOUNDSY
	STEM</p><p>&gt; ESAÏA LIVE&nbsp;</p><p>&amp; MORE ....</p><p>&nbsp;</p><p>
	<br>Suite de la programmation : septembre 2025<br><br>▬▬▬▬▬▬▬▬▬▬<br><br>De
	s origines roots au futur électronique, HOUSE OF DUB accueillera la crème 
	de la « bass culture » et sera le temps d’une nuit, une maison pour tous .
	. All tribes, Welcome !<br><br>▬▬▬▬▬▬▬▬▬▬<br>// Cet événement est INTERDIT
	 AUX MINEURS – Preuve d’identité avec photo obligatoire.<br>// Nous nous r
	éservons le droit de refuser l’accès aux personnes en état d’ivresse, même
	 détenteur d’un billet."</p>
BEGIN:VALARM
ACTION:DISPLAY
DESCRIPTION:HOUSE OF DUB #5
TRIGGER:-PT1H
END:VALARM
END:VEVENT
END:VCALENDAR
