BEGIN:VCALENDAR
VERSION:2.0
CALSCALE:GREGORIAN
PRODID:adamgibbons/ics
METHOD:PUBLISH
X-PUBLISHED-TTL:PT1H
BEGIN:VEVENT
UID:131@dubagenda.top
SUMMARY:Home Sweet Dub // Zion Gate
DTSTAMP:20260421T153441Z
DTSTART:20260307T180000Z
DTEND:20260308T000000Z
DESCRIPTION:Bar FEU\, rue Marechal Joffre - Nantes\nHome Sweet Dub\, c’est 
	la rencontre de trois crews \, Dub Livity\, NRS et Invalved\nSound System\
	, pour une soirée placée sous le signe du partage et de la bonne\nhumeur. 
	On démarre tranquillement au comptoir puis direction la salle pour faire\n
	vibrer le dancefloor jusqu’au bout de la nuit !\n-------------------------
	SPECIAL GUEST---------------------------\n>> Zion Gate Hi Fi est un sound 
	system nantais fondé en 1996\, parmi les plus\nanciens de l’Hexagone. Port
	é par une sélection résolument Roots and Culture\, le\ncrew défend une app
	roche authentique du sound system et un engagement fort\nautour de la cult
	ure Rastafari.\n----------------------------------------------------------
	------------\n>> NRS\, collectif nantais composé de trois membres aux univ
	ers complémentaires\,\nenchaîne les sélections reggae/dub/Bass music taill
	ées pour la danse. Le crew\ns’est déjà produit aux Vieilles Charrues 2023\
	, et leur mixtape pour Stand High\nPatrol figure dans le top 5 du projet.\
	n>> Invalved Sound System\, résident du Social Club\, plonge le public dan
	s\nl’ambiance des sound systems jamaïcains d’origine\, grâce à une sono vi
	ntage et\nun mélange unique de classiques et de pépites rares.\n>> Dub Liv
	ity Sound System\, pilier du dub en Normandie et désormais bien ancré à\nN
	antes\, fait vivre l’esprit UK sound system avec des soirées puissantes\,\
	nengagées\, et une expérience sonore authentique\, de la tradition roots 7
	0’s aux\nsteppers les plus récents.\n>> Une soirée entre passionnés\, dans
	 la pure tradition sound system : ambiance\nchaleureuse\, sélections affût
	ées et basses bien présentes. Get ready Nantes !
URL:https://dubagenda.top/event/home-sweet-dub-zion-gate
GEO:47.2201959;-1.5489743
LOCATION:44000 Nantes // Feu bar - 87\, Rue Maréchal Joffre\, Richebourg\, 
	Richebourg - Saint-Clément\, Malakoff - Saint-Donatien\, Nantes\, Loire-At
	lantique\, Pays de la Loire\, France métropolitaine\, 44000\, France
STATUS:CONFIRMED
CATEGORIES:Nantes,2026,Sound System
X-ALT-DESC;FMTTYPE=text/html:<p>Bar FEU, rue Marechal Joffre - Nantes<br>Ho
	me Sweet Dub, c’est la rencontre de trois crews , Dub Livity, NRS et Inval
	ved Sound System, pour une soirée placée sous le signe du partage et de la
	 bonne humeur. On démarre tranquillement au comptoir puis direction la sal
	le pour faire vibrer le dancefloor jusqu’au bout de la nuit !<br>---------
	----------------SPECIAL GUEST---------------------------<br>&gt;&gt; Zion 
	Gate Hi Fi est un sound system nantais fondé en 1996, parmi les plus ancie
	ns de l’Hexagone. Porté par une sélection résolument Roots and Culture, le
	 crew défend une approche authentique du sound system et un engagement for
	t autour de la culture Rastafari.<br>-------------------------------------
	---------------------------------<br>&gt;&gt; NRS, collectif nantais compo
	sé de trois membres aux univers complémentaires, enchaîne les sélections r
	eggae/dub/Bass music taillées pour la danse. Le crew s’est déjà produit au
	x Vieilles Charrues 2023, et leur mixtape pour Stand High Patrol figure da
	ns le top 5 du projet.<br>&gt;&gt; Invalved Sound System, résident du Soci
	al Club, plonge le public dans l’ambiance des sound systems jamaïcains d’o
	rigine, grâce à une sono vintage et un mélange unique de classiques et de 
	pépites rares.<br>&gt;&gt; Dub Livity Sound System, pilier du dub en Norma
	ndie et désormais bien ancré à Nantes, fait vivre l’esprit UK sound system
	 avec des soirées puissantes, engagées, et une expérience sonore authentiq
	ue, de la tradition roots 70’s aux steppers les plus récents.<br>&gt;&gt; 
	Une soirée entre passionnés, dans la pure tradition sound system : ambianc
	e chaleureuse, sélections affûtées et basses bien présentes. Get ready Nan
	tes ! </p>
BEGIN:VALARM
ACTION:DISPLAY
DESCRIPTION:Home Sweet Dub // Zion Gate
TRIGGER:-PT1H
END:VALARM
END:VEVENT
END:VCALENDAR
