BEGIN:VCALENDAR
VERSION:2.0
CALSCALE:GREGORIAN
PRODID:adamgibbons/ics
METHOD:PUBLISH
X-PUBLISHED-TTL:PT1H
BEGIN:VEVENT
UID:43@dubagenda.top
SUMMARY:Home Sweet Dub // Festival ScopitOff
DTSTAMP:20260421T152025Z
DTSTART:20250920T160000Z
DTEND:20250920T220000Z
DESCRIPTION:SCOPITOFF\, Le 1er Festival Off de @stereolux_scopitone 2025 du
	 jeudi 18 au\nsamedi 20 septembre 2025 au @feu.bar [http://feu.bar] situé 
	87 rue du Mal Joffre\nà Nantes\n\n💓 Cultures Électroniques - 100% Made in 
	Nantes - Naoned City ! Support Your\nLocal Crews ! Viva la Culture dans le
	s Bars ! Nantes Est Une Fête ! Scopitoff\,\nest le 1er Festival Off de Sco
	pitone - Cultures Électroniques... 23 ans après sa\ncréation\, il était te
	mps\, non ?! .\n\nPour clôturer ce 1er Festival Scopitoff\, le Off de Scop
	itone\, une belle Fièvre\ndu Samedi soir au son Dub avec la soirée Home Sw
	eet Dub\n\nHome Sweet Dub\, c’est la rencontre de trois crews: @dublivity\
	, NRS et Invalved\,\npour une soirée placée sous le signe du partage et de
	 la bonne humeur. Get ready\nNantes ! @nantesfr @nantes_cultures @bigcityn
	antes
URL:https://dubagenda.top/event/home-sweet-dub-festival-scopitoff
GEO:47.2201959;-1.5489743
LOCATION:44000 Nantes // Feu bar - 87\, Rue Maréchal Joffre\, Richebourg\, 
	Richebourg - Saint-Clément\, Malakoff - Saint-Donatien\, Nantes\, Loire-At
	lantique\, Pays de la Loire\, France métropolitaine\, 44000\, France
STATUS:CONFIRMED
CATEGORIES:2025,Nantes,Sound System
X-ALT-DESC;FMTTYPE=text/html:<p>SCOPITOFF, Le 1er Festival Off de @stereolu
	x_scopitone 2025 du jeudi 18 au samedi 20 septembre 2025 au @<a target="_b
	lank" href="http://feu.bar">feu.bar</a> situé 87 rue du Mal Joffre à Nante
	s</p><p>💓 Cultures Électroniques - 100% Made in Nantes - Naoned City ! Sup
	port Your Local Crews ! Viva la Culture dans les Bars ! Nantes Est Une Fêt
	e ! Scopitoff, est le 1er Festival Off de Scopitone - Cultures Électroniqu
	es... 23 ans après sa création, il était temps, non ?! . </p><p>Pour clôtu
	rer ce 1er Festival Scopitoff, le Off de Scopitone, une belle Fièvre du Sa
	medi soir au son Dub avec la soirée Home Sweet Dub </p><p>Home Sweet Dub, 
	c’est la rencontre de trois crews: @dublivity, NRS et Invalved, pour une s
	oirée placée sous le signe du partage et de la bonne humeur. Get ready Nan
	tes ! @nantesfr @nantes_cultures @bigcitynantes</p>
BEGIN:VALARM
ACTION:DISPLAY
DESCRIPTION:Home Sweet Dub // Festival ScopitOff
TRIGGER:-PT1H
END:VALARM
END:VEVENT
END:VCALENDAR
