BEGIN:VCALENDAR
VERSION:2.0
CALSCALE:GREGORIAN
PRODID:adamgibbons/ics
METHOD:PUBLISH
X-PUBLISHED-TTL:PT1H
BEGIN:VEVENT
UID:83@dubagenda.top
SUMMARY:Home Sweet Dub #8
DTSTAMP:20260421T153205Z
DTSTART:20251129T180000Z
DTEND:20251130T000000Z
DESCRIPTION:2eme épisode de la 3ème saison des Home Sweet Dub qui porte tou
	jours aussi hauts\ntoutes les couleurs du reggae music.\n3 sound-systems d
	e copains qui ont chacun leurs styles et leurs façons de\ntraduire cette c
	ulture qui leur tient à cœur : INVALVED\, DUB LIVITY ET NRS.\nChaque épiso
	de a été le théâtre d'un partage chaleureux avec le public autour de\ncett
	e diversité des sélections. Venez nous rejoindre dès 19h au comptoir avec 
	un\nsélecteur et à partir de 21h en salle.\nRally round family !!
URL:https://dubagenda.top/event/home-sweet-dub-8
GEO:47.2201959;-1.5489743
LOCATION:44000 Nantes // Feu bar - 87\, Rue Maréchal Joffre\, Richebourg\, 
	Richebourg - Saint-Clément\, Malakoff - Saint-Donatien\, Nantes\, Loire-At
	lantique\, Pays de la Loire\, France métropolitaine\, 44000\, France
STATUS:CONFIRMED
CATEGORIES:2025,Nantes,Sound System
X-ALT-DESC;FMTTYPE=text/html:<p>2eme épisode de la 3ème saison des Home Swe
	et Dub qui porte toujours aussi hauts toutes les couleurs du reggae music.
	<br>3 sound-systems de copains qui ont chacun leurs styles et leurs façons
	 de traduire cette culture qui leur tient à cœur : INVALVED, DUB LIVITY ET
	 NRS.<br>Chaque épisode a été le théâtre d'un partage chaleureux avec le p
	ublic autour de cette diversité des sélections. Venez nous rejoindre dès 1
	9h au comptoir avec un sélecteur et à partir de 21h en salle.<br>Rally rou
	nd family !!</p>
BEGIN:VALARM
ACTION:DISPLAY
DESCRIPTION:Home Sweet Dub #8
TRIGGER:-PT1H
END:VALARM
END:VEVENT
END:VCALENDAR
