BEGIN:VCALENDAR
VERSION:2.0
CALSCALE:GREGORIAN
PRODID:adamgibbons/ics
METHOD:PUBLISH
X-PUBLISHED-TTL:PT1H
BEGIN:VEVENT
UID:56@dubagenda.top
SUMMARY:⚡ Yessaya in session #1
DTSTAMP:20260421T151405Z
DTSTART:20251025T173000Z
DTEND:20251025T233000Z
DESCRIPTION:⚡ Yessaya in session #1 ⚡\nPour cette première édition on vient
	 installer 3 scoops au Taproom Aérofab !\nÀ cette occasion c'est les copai
	ns de Youth Collective qui viendront partager la\nsélection.\nAu programme
	 de cette célébration musicale :\nHeavyweight sound\, sélections affûtées\
	, obscure roots\, music with a message and\ndubplate shower 🔊🚿\nInfos prat
	iques :\nLieu : Taproom Aerofab - 21 Quai des Antilles\, Nantes\nHoraires 
	: 19h30 - 1h30\nEntrée : prix libre\nVisuel : @ninii.adamia
URL:https://dubagenda.top/event/high-voltage-yessaya-in-session-1
GEO:47.2022774;-1.5726563
LOCATION:44200 Nantes // Taproom Aerofab - Quai des Antilles\, Sainte-Anne 
	- Zone portuaire\, Île de Nantes\, Nantes\, Loire-Atlantique\, Pays de la 
	Loire\, France métropolitaine\, 44276\, France
STATUS:CONFIRMED
CATEGORIES:2025,Nantes,Sound System
X-ALT-DESC;FMTTYPE=text/html:<p>⚡ Yessaya in session #1 ⚡<br>Pour cette pre
	mière édition on vient installer 3 scoops au Taproom Aérofab !<br>À cette 
	occasion c'est les copains de Youth Collective qui viendront partager la s
	élection.<br>Au programme de cette célébration musicale :<br>Heavyweight s
	ound, sélections affûtées, obscure roots, music with a message and dubplat
	e shower 🔊🚿<br>Infos pratiques :<br>Lieu : Taproom Aerofab - 21 Quai des A
	ntilles, Nantes<br>Horaires : 19h30 - 1h30<br>Entrée : prix libre<br>Visue
	l : @ninii.adamia</p>
BEGIN:VALARM
ACTION:DISPLAY
DESCRIPTION:⚡ Yessaya in session #1
TRIGGER:-PT1H
END:VALARM
END:VEVENT
END:VCALENDAR
