BEGIN:VCALENDAR
VERSION:2.0
CALSCALE:GREGORIAN
PRODID:adamgibbons/ics
METHOD:PUBLISH
X-PUBLISHED-TTL:PT1H
BEGIN:VEVENT
UID:77@dubagenda.top
SUMMARY:Get Up All Star // Mighty Jazzy
DTSTAMP:20260421T151507Z
DTSTART:20251129T200000Z
DTEND:20251129T233000Z
DESCRIPTION:Samedi 29 Novembre à 21h\nMIGHTY JAZZY (Get Up All Stars / DUB 
	CAMP)\nhttps://soundcloud.com/user-69648057 [https://soundcloud.com/user-6
	9648057]
URL:https://dubagenda.top/event/get-up-all-star-mighty-jazzy
GEO:47.2061094;-1.5579577
LOCATION:44200 Nantes // Paws Hot Dog - Rue La Tour d'Auvergne\, Île Mabon\
	, République - Les Ponts\, Nantes\, Loire-Atlantique\, Pays de la Loire\, 
	France métropolitaine\, 44276\, France
STATUS:CONFIRMED
CATEGORIES:2025,Nantes,Sound System
X-ALT-DESC;FMTTYPE=text/html:<p>Samedi 29 Novembre à 21h<br>MIGHTY JAZZY (G
	et Up All Stars / DUB CAMP)<br><a target="_blank" href="https://soundcloud
	.com/user-69648057">https://soundcloud.com/user-69648057</a></p>
BEGIN:VALARM
ACTION:DISPLAY
DESCRIPTION:Get Up All Star // Mighty Jazzy
TRIGGER:-PT1H
END:VALARM
END:VEVENT
END:VCALENDAR
