BEGIN:VCALENDAR
VERSION:2.0
CALSCALE:GREGORIAN
PRODID:adamgibbons/ics
METHOD:PUBLISH
X-PUBLISHED-TTL:PT1H
BEGIN:VEVENT
UID:71@dubagenda.top
SUMMARY:Get Up! All Star // I-Nity Sound System
DTSTAMP:20260421T151550Z
DTSTART:20251121T170000Z
DTEND:20251122T003000Z
DESCRIPTION:Les Get Up ! All Stars font leur grand retour au Point Bar pour
	 se remplir de\ngood vibes avant la fin de l'année ! 🌅\nL'occasion pour le
	s adhérent·es et les membres de Get Up ! de se retrouver\ndevant un sound 
	posé par I-Nity Sound System pour vous proposer une sélection\nmaison. 🎛️\n
	On vous donne rendez-vous dès 18h sur des rythmes roots et ensoleillés.\nV
	ous êtes sur le point de voyager autour d'une sélection évolutive\, sur de
	s\nvagues soutenues et énergiques de Dub qui feront vibrer vos plus belles
	\nsandales. 🩴\nAlors on vous attend de pied ferme\, et on a hâte de retrou
	ver vos big smiles sur\nle dancefloor !\n📆 Vendredi 21 novembre 2025\n⏰ De
	 18h à 1h30\n📍Le Point Bar\, 38 rue la Noue-Bras-de-Fer\, 44200 Nantes\n🎫 
	Entrée Gratuite - Pas de réservation
URL:https://dubagenda.top/event/get-up-all-star-i-nity-sound-system
GEO:47.2068397;-1.5639081
LOCATION:44200 Nantes // Le Point Bar - Rue La Noue Bras de Fer\, Île Mabon
	\, République - Les Ponts\, Nantes\, Loire-Atlantique\, Pays de la Loire\,
	 France métropolitaine\, 44276\, France
STATUS:CONFIRMED
CATEGORIES:2025,Nantes,Sound System
X-ALT-DESC;FMTTYPE=text/html:<p>Les Get Up ! All Stars font leur grand reto
	ur au Point Bar pour se remplir de good vibes avant la fin de l'année ! 🌅<
	br>L'occasion pour les adhérent·es et les membres de Get Up ! de se retrou
	ver devant un sound posé par I-Nity Sound System pour vous proposer une sé
	lection maison. 🎛️<br>On vous donne rendez-vous dès 18h sur des rythmes roo
	ts et ensoleillés.<br>Vous êtes sur le point de voyager autour d'une sélec
	tion évolutive, sur des vagues soutenues et énergiques de Dub qui feront v
	ibrer vos plus belles sandales. 🩴<br>Alors on vous attend de pied ferme, e
	t on a hâte de retrouver vos big smiles sur le dancefloor !<br>📆 Vendredi 
	21 novembre 2025<br>⏰ De 18h à 1h30<br>📍Le Point Bar, 38 rue la Noue-Bras-
	de-Fer, 44200 Nantes<br>🎫 Entrée Gratuite - Pas de réservation</p>
BEGIN:VALARM
ACTION:DISPLAY
DESCRIPTION:Get Up! All Star // I-Nity Sound System
TRIGGER:-PT1H
END:VALARM
END:VEVENT
END:VCALENDAR
