BEGIN:VCALENDAR
VERSION:2.0
CALSCALE:GREGORIAN
PRODID:adamgibbons/ics
METHOD:PUBLISH
X-PUBLISHED-TTL:PT1H
BEGIN:VEVENT
UID:60@dubagenda.top
SUMMARY:FRIPALESTINE 🇵🇸  by Rabab00m
DTSTAMP:20260421T151322Z
DTSTART:20251009T120000Z
DTEND:20251009T213000Z
DESCRIPTION:FRIPALESTINE 🇵🇸\n\nMarché de créateur.ices en soutien au program
	me Résilience Gaza\n\nAu programme marché de créateu.rices de 14h à 20h av
	ec @strange_angry_child\n@b0rdaline @nosoucispasdeick @titina_juliette @__
	gomme @kotenso 🥰🫶\n\nOn sera accompagné par @urgencepalestinenantes\, prés
	ent avec un stand et qui\neffectuera une prise de parole dans l’après-midi
	 🇵🇸🇵🇸🇵🇸\n\nAmbiance musicale toute la journée☀️ Et pour finir en beauté\, séle
	ction\nreggae/dub et Dj set DnB par la RabaTeam (@legalpaul @mighty_hugh_b
	 @fabio6tm)\,\nle tout sonorisé par @gregy_greg sound system 🔊\n\n📆jeudi 9
	 octobre\n\n📍@dernieremain \, 5 rue de Strasbourg\, 44000 Nantes\n\n🕚14h-2
	3h30\n\n🧑‍🎨Illustration\, Prints\, Photos…\n\n🎶Reggae\, Dub\, DnB\n\n🍻Bar pr
	ix doux\n\n💚Prix libre\n\n❗No relou.es [http://relou.es]❗ AUCUN COMPORTEME
	NT DÉPLACÉ NE SERA TOLÉRÉ\n\nBig up @marineggr et @2cent20seize pour l’aff
	iche 🙌
URL:https://dubagenda.top/event/fripalestine-by-rabob00m
GEO:47.2155185;-1.5509878
LOCATION:44000 Nantes // Dernière main - Rue de Strasbourg\, Cathédrale\, D
	ecré - Cathédrale\, Centre Ville\, Nantes\, Loire-Atlantique\, Pays de la 
	Loire\, France métropolitaine\, 44013\, France
STATUS:CONFIRMED
CATEGORIES:2025,Nantes,Sound System
X-ALT-DESC;FMTTYPE=text/html:<p>FRIPALESTINE 🇵🇸 </p><p>Marché de créateur.ic
	es en soutien au programme Résilience Gaza </p><p>Au programme marché de c
	réateu.rices de 14h à 20h avec @strange_angry_child @b0rdaline @nosoucispa
	sdeick @titina_juliette @__gomme @kotenso 🥰🫶 </p><p>On sera accompagné par
	 @urgencepalestinenantes, présent avec un stand et qui effectuera une pris
	e de parole dans l’après-midi 🇵🇸🇵🇸🇵🇸 </p><p>Ambiance musicale toute la journé
	e☀️ Et pour finir en beauté, sélection reggae/dub et Dj set DnB par la Raba
	Team (@legalpaul @mighty_hugh_b @fabio6tm), le tout sonorisé par @gregy_gr
	eg sound system 🔊 </p><p>📆jeudi 9 octobre </p><p>📍@dernieremain , 5 rue de
	 Strasbourg, 44000 Nantes</p><p>🕚14h-23h30 </p><p>🧑‍🎨Illustration, Prints, P
	hotos… </p><p>🎶Reggae, Dub, DnB </p><p>🍻Bar prix doux </p><p>💚Prix libre <
	/p><p>❗No <a href="http://relou.es" target="_blank">relou.es</a>❗ AUCUN CO
	MPORTEMENT DÉPLACÉ NE SERA TOLÉRÉ </p><p>Big up @marineggr et @2cent20seiz
	e pour l’affiche 🙌</p>
BEGIN:VALARM
ACTION:DISPLAY
DESCRIPTION:FRIPALESTINE 🇵🇸  by Rabab00m
TRIGGER:-PT1H
END:VALARM
END:VEVENT
END:VCALENDAR
