BEGIN:VCALENDAR
VERSION:2.0
CALSCALE:GREGORIAN
PRODID:adamgibbons/ics
METHOD:PUBLISH
X-PUBLISHED-TTL:PT1H
BEGIN:VEVENT
UID:129@dubagenda.top
SUMMARY:Fire Room #1 // Ataraxy Mango Loco
DTSTAMP:20260421T151323Z
DTSTART:20260314T190000Z
DTEND:20260315T003000Z
DESCRIPTION:F̾I̾R̾E̾ ̾R̾O̾O̾M̾ 🔥 Ataraxy Sound System invite Mango Logo & A
	niya chez\nAerofab Taproom\n🔊_sound system session_roots & dub selections\
	n🕣_samedi 14 mars_20h\n💰_prix libre\nNé en 2015 de l’amitié et de la passi
	on d’un collectif uni\, Ataraxy Sound System\ndéfend une culture libre\, i
	ndépendante\, profondément humaine et militante.Issu\ndu mouvement sound s
	ystem\, notre projet s’ancre dans des valeurs de solidarité\,\nd’égalité e
	t d’émancipation\, en essayant de faire vibrer les corps autant que\nles i
	dées.\nDu roots au UK dub\, nos sélections et productions célèbrent la mus
	ique comme\nespace de rencontre\, de conscience et de résistance.\n📍_Tapro
	om_Aerofab\n21 quai des Antilles\, Nantes
URL:https://dubagenda.top/event/fire-room-1-ataraxy
GEO:47.2022774;-1.5726563
LOCATION:44200 Nantes // Taproom Aerofab - Quai des Antilles\, Sainte-Anne 
	- Zone portuaire\, Île de Nantes\, Nantes\, Loire-Atlantique\, Pays de la 
	Loire\, France métropolitaine\, 44276\, France
STATUS:CONFIRMED
CATEGORIES:Nantes,2026,Sound System
X-ALT-DESC;FMTTYPE=text/html:<p>F̾I̾R̾E̾ ̾R̾O̾O̾M̾ 🔥 Ataraxy Sound System i
	nvite Mango Logo &amp; Aniya chez Aerofab Taproom<br>🔊_sound system sessio
	n_roots &amp; dub selections<br>🕣_samedi 14 mars_20h<br>💰_prix libre<br>Né
	 en 2015 de l’amitié et de la passion d’un collectif uni, Ataraxy Sound Sy
	stem défend une culture libre, indépendante, profondément humaine et milit
	ante.Issu du mouvement sound system, notre projet s’ancre dans des valeurs
	 de solidarité, d’égalité et d’émancipation, en essayant de faire vibrer l
	es corps autant que les idées.<br>Du roots au UK dub, nos sélections et pr
	oductions célèbrent la musique comme espace de rencontre, de conscience et
	 de résistance.<br>📍_Taproom_Aerofab<br>21 quai des Antilles, Nantes</p>
BEGIN:VALARM
ACTION:DISPLAY
DESCRIPTION:Fire Room #1 // Ataraxy Mango Loco
TRIGGER:-PT1H
END:VALARM
END:VEVENT
END:VCALENDAR
