BEGIN:VCALENDAR
VERSION:2.0
CALSCALE:GREGORIAN
PRODID:adamgibbons/ics
METHOD:PUBLISH
X-PUBLISHED-TTL:PT1H
BEGIN:VEVENT
UID:199@dubagenda.top
SUMMARY:Fête de la musique
DTSTAMP:20260425T153840Z
DTSTART:20260620T120000Z
DTEND:20260620T220000Z
URL:https://dubagenda.top/event/fete-de-la-musique
GEO:47.2864344;-1.3813622
LOCATION:44450 Divatte-Sur-Loire // Guinguette Pierre Percée - Les Levées\,
	 La Chapelle-Basse-Mer\, Divatte-sur-Loire\, Nantes\, Loire-Atlantique\, P
	ays de la Loire\, France métropolitaine\, 44450\, France
STATUS:CONFIRMED
CATEGORIES:Nantes,2026,Sound System,fête de la musique
BEGIN:VALARM
ACTION:DISPLAY
DESCRIPTION:Fête de la musique
TRIGGER:-PT1H
END:VALARM
END:VEVENT
END:VCALENDAR
