BEGIN:VCALENDAR
VERSION:2.0
CALSCALE:GREGORIAN
PRODID:adamgibbons/ics
METHOD:PUBLISH
X-PUBLISHED-TTL:PT1H
BEGIN:VEVENT
UID:133@dubagenda.top
SUMMARY:Ferce Run Di Dub // Reggae Dub Vibe'Ration & Bout'40
DTSTAMP:20260421T151852Z
DTSTART:20260307T180000Z
DTEND:20260308T000000Z
DESCRIPTION:Yes i le massive On est content de vous annoncer notre retour à
	 Fercé pour la\n1ere édition de RUN Di DUB.\nLe collectif\nRDVR invite le 
	BOUT'40 Sound!!!!Au programme sélection vinyles CDs\, digital et\nMC. Du r
	oots du reggae en passant par le rubadub et le stepper l'équipe du\nReggae
	 Dub Vibe'Ration et du BOUT'40 Sound vont mettre le FAYA.\n\n-Le Bout'40 S
	ound est un sound system de Rennes présent depuis 2004. Composé de\nfrères
	 jumeaux Damien et Mc Joh.\n\n-Cette fois ci on ne se retrouve pas au Rela
	is bar de Fercé mais à la salle\nMunicipal de Fercé. Mais toujours en comp
	agnie de GREG ET SABRINA qui seront là\npour assurer le service au bar.\n\
	n-Pour la restauration nous aurons le plaisir d'avoir la bonne cuisine vég
	étal de\nBien être d'aujourd'hui.\n\nPAF 5€
URL:https://dubagenda.top/event/ferce-run-di-dub-reggae-dub-viberation-and-
	bout40
GEO:47.7966391;-1.4166362
LOCATION:44660 Fercé // Salle Municipale - Rue de la Salle Municipale\, La 
	Grée De Fercé\, Fercé\, Châteaubriant-Ancenis\, Loire-Atlantique\, Pays de
	 la Loire\, France métropolitaine\, 44660\, France
STATUS:CONFIRMED
CATEGORIES:Nantes,2026,Sound System
X-ALT-DESC;FMTTYPE=text/html:<p>Yes i le massive On est content de vous ann
	oncer notre retour à Fercé pour la 1ere édition de RUN Di DUB.<br>Le colle
	ctif<br>RDVR invite le BOUT'40 Sound!!!!Au programme sélection vinyles CDs
	, digital et MC. Du roots du reggae en passant par le rubadub et le steppe
	r l'équipe du Reggae Dub Vibe'Ration et du BOUT'40 Sound vont mettre le FA
	YA.<br><br>-Le Bout'40 Sound est un sound system de Rennes présent depuis 
	2004. Composé de frères jumeaux Damien et Mc Joh.<br><br>-Cette fois ci on
	 ne se retrouve pas au Relais bar de Fercé mais à la salle Municipal de Fe
	rcé. Mais toujours en compagnie de GREG ET SABRINA qui seront là pour assu
	rer le service au bar.<br><br>-Pour la restauration nous aurons le plaisir
	 d'avoir la bonne cuisine végétal de Bien être d'aujourd'hui.<br><br>PAF 5
	€</p>
BEGIN:VALARM
ACTION:DISPLAY
DESCRIPTION:Ferce Run Di Dub // Reggae Dub Vibe'Ration & Bout'40
TRIGGER:-PT1H
END:VALARM
END:VEVENT
END:VCALENDAR
