BEGIN:VCALENDAR
VERSION:2.0
CALSCALE:GREGORIAN
PRODID:adamgibbons/ics
METHOD:PUBLISH
X-PUBLISHED-TTL:PT1H
BEGIN:VEVENT
UID:78@dubagenda.top
SUMMARY:FAYA LIBERTY SOUND PARTY #3
DTSTAMP:20260421T134121Z
DTSTART:20251108T180000Z
DTEND:20251109T010000Z
DESCRIPTION:🚨FAYA LIBERTY SOUND PARTY #3 🔥🔥🔥De retour au Le Zinor le samedi
	 8 Novembre\n2025\, Faya liberty reçoit ABSO & SNORRI Da Real sur la sono 
	de Versa\nCrew🔊🔊🔊Au Programme\, une soirée axée sur le DUB et le HIPHOP av
	ec aux\nplatines SNORRI\, FAYA LIBERTY\, VERSA CREW dj set et des MC pour 
	mettre le feu\n🔥: Abso\, Wisemani\, Bossie + des guests pour des freestyle
	s toutes la soirée.On\nvous donne RDV de 19H à 2H pour faire trembler les 
	murs du ZINOR.BAR\n[http://ZINOR.BAR] et RESTO sur place.TARIF UNIQUE 10 e
	uros
URL:https://dubagenda.top/event/faya-liberty-sound-party-3
GEO:46.9830205;-1.3245793
LOCATION:85600 Montaigu // Le Zinor - 191\, Rue du Moulin Gros\, Montaigu\,
	 Montaigu-Vendée\, La Roche-sur-Yon\, Vendée\, Pays de la Loire\, France m
	étropolitaine\, 85600\, France
STATUS:CONFIRMED
CATEGORIES:2025,85,Ragga,Sound System
X-ALT-DESC;FMTTYPE=text/html:<p>🚨FAYA LIBERTY SOUND PARTY #3 🔥🔥🔥De retour a
	u Le Zinor le samedi 8 Novembre 2025, Faya liberty reçoit ABSO &amp; SNORR
	I Da Real sur la sono de Versa Crew🔊🔊🔊Au Programme, une soirée axée sur le
	 DUB et le HIPHOP avec aux platines SNORRI, FAYA LIBERTY, VERSA CREW dj se
	t et des MC pour mettre le feu 🔥: Abso, Wisemani, Bossie + des guests pour
	 des freestyles toutes la soirée.On vous donne RDV de 19H à 2H pour faire 
	trembler les murs du <a target="_blank" href="http://ZINOR.BAR">ZINOR.BAR<
	/a> et RESTO sur place.TARIF UNIQUE 10 euros</p>
BEGIN:VALARM
ACTION:DISPLAY
DESCRIPTION:FAYA LIBERTY SOUND PARTY #3
TRIGGER:-PT1H
END:VALARM
END:VEVENT
END:VCALENDAR
