BEGIN:VCALENDAR
VERSION:2.0
CALSCALE:GREGORIAN
PRODID:adamgibbons/ics
METHOD:PUBLISH
X-PUBLISHED-TTL:PT1H
BEGIN:VEVENT
UID:49@dubagenda.top
SUMMARY:Esprit Dub #1  //  Natural Dub Sound System
DTSTAMP:20260421T153441Z
DTSTART:20250927T140000Z
DTEND:20250927T220000Z
DESCRIPTION:💥C'est reparti pour une soirée Dub de folie avec nos amis de Na
	tural Dub -\nsound system !\n🎪 Cette fois-ci\, sous le nouveau chapiteau d
	e l'École De Cirque et Trapeze\nVolant Esprit Cirk\nAutant dire que ça va 
	être Show 🔊\n💥 Amènes ton plus beau sourire et tous tes potes pour vibrer 
	en cette rentrée !\n🟢 JIDEH HIGH ELEMENTS sera là avec toutes ses pépites 
	☄\n🟡 Natural Dub vous ambiancera toute la soirée 🔊\n🔴L.V.P. gérera le Warm
	 Up dès 18h\, histoire d'allumer gentillement la flamme en\nvous !\nIl y a
	ura bien évidement buvette et restauration sur place avec des bières\nloca
	les par la Brasserie La Perchée 🍻🍺\nEt de bons plats chauds pour vous nour
	rir 🥘\n\n\n\nhttps://www.helloasso.com/associations/esprit-perche/evenemen
	ts/esprit-dub-1\n[https://www.helloasso.com/associations/esprit-perche/eve
	nements/esprit-dub-1]\n\n
URL:https://dubagenda.top/event/esprit-dub-1-natural-dub-sound-system
GEO:46.5676016;-1.6587102
LOCATION:85150 Les Achards // Esprit Cirk - La Chapelle-Achard\, Les Achard
	s\, Les Sables-d'Olonne\, Vendée\, Pays de la Loire\, France métropolitain
	e\, 85150\, France
STATUS:CONFIRMED
CATEGORIES:2025,85,Sound System
X-ALT-DESC;FMTTYPE=text/html:<p>💥C'est reparti pour une soirée Dub de folie
	 avec nos amis de Natural Dub - sound system ! <br>🎪 Cette fois-ci, sous l
	e nouveau chapiteau de l'École De Cirque et Trapeze Volant Esprit Cirk  <b
	r>Autant dire que ça va être Show 🔊<br>💥 Amènes ton plus beau sourire et t
	ous tes potes pour vibrer en cette rentrée ! <br>🟢 JIDEH HIGH ELEMENTS   s
	era là avec toutes ses pépites ☄<br>🟡 Natural Dub vous ambiancera toute la
	 soirée 🔊<br>🔴L.V.P. gérera le Warm Up dès 18h, histoire d'allumer gentill
	ement la flamme en vous ! <br>Il y aura bien évidement buvette et restaura
	tion sur place avec des bières locales par la Brasserie La Perchée  🍻🍺<br>
	Et de bons plats chauds pour vous nourrir 🥘 </p><p></p><p><a target="_blan
	k" href="https://www.helloasso.com/associations/esprit-perche/evenements/e
	sprit-dub-1">https://www.helloasso.com/associations/esprit-perche/evenemen
	ts/esprit-dub-1</a></p><p></p>
BEGIN:VALARM
ACTION:DISPLAY
DESCRIPTION:Esprit Dub #1  //  Natural Dub Sound System
TRIGGER:-PT1H
END:VALARM
END:VEVENT
END:VCALENDAR
