BEGIN:VCALENDAR
VERSION:2.0
CALSCALE:GREGORIAN
PRODID:adamgibbons/ics
METHOD:PUBLISH
X-PUBLISHED-TTL:PT1H
BEGIN:VEVENT
UID:28@dubagenda.top
SUMMARY:Erev HiFi invite Ten to One // Festival Les Bouilles Heureuses
DTSTAMP:20260421T152127Z
DTSTART:20250830T200000Z
DTEND:20250831T020000Z
URL:https://dubagenda.top/event/erev-hifi-invite-ten-to-one-festival-les-bo
	uilles-heureuses
GEO:47.1051354;-2.0396856
LOCATION:44210 Pornic //  Distillerie 168 - Pornic\, Saint-Nazaire\, Loire-
	Atlantique\, Pays de la Loire\, France métropolitaine\, 44210\, France
STATUS:CONFIRMED
CATEGORIES:2025,Nantes,Sound System
BEGIN:VALARM
ACTION:DISPLAY
DESCRIPTION:Erev HiFi invite Ten to One // Festival Les Bouilles Heureuses
TRIGGER:-PT1H
END:VALARM
END:VEVENT
END:VCALENDAR
