BEGIN:VCALENDAR
VERSION:2.0
CALSCALE:GREGORIAN
PRODID:adamgibbons/ics
METHOD:PUBLISH
X-PUBLISHED-TTL:PT1H
BEGIN:VEVENT
UID:85@dubagenda.top
SUMMARY:Erev HiFi & YSE Conductor
DTSTAMP:20260421T132959Z
DTSTART:20251122T190000Z
DTEND:20251123T000000Z
DESCRIPTION:Last of the year pour nous !! Pour ce faire\, on partagera cett
	e dernière danse\navec @yse.conductor ! Adepte du reggae jamaïcain et du d
	ub UK on espère vous\nvoir nombreux ce Samedi 22 novembre.
URL:https://dubagenda.top/event/erev-hifi-and-yse-conductor
GEO:47.5540889;-2.4814802
LOCATION:56190 Muzillac // L'instant - 1\, Rue Richemond\, Muzillac\, Vanne
	s\, Morbihan\, Bretagne\, France métropolitaine\, 56190\, France
STATUS:CONFIRMED
CATEGORIES:2025,56,Sound System
X-ALT-DESC;FMTTYPE=text/html:<p>Last of the year pour nous !! Pour ce faire
	, on partagera cette dernière danse avec @yse.conductor ! Adepte du reggae
	 jamaïcain et du dub UK on espère vous voir nombreux ce Samedi 22 novembre
	.</p>
BEGIN:VALARM
ACTION:DISPLAY
DESCRIPTION:Erev HiFi & YSE Conductor
TRIGGER:-PT1H
END:VALARM
END:VEVENT
END:VCALENDAR
