BEGIN:VCALENDAR
VERSION:2.0
CALSCALE:GREGORIAN
PRODID:adamgibbons/ics
METHOD:PUBLISH
X-PUBLISHED-TTL:PT1H
BEGIN:VEVENT
UID:140@dubagenda.top
SUMMARY:Echo Logic Dub Farm Session #3
DTSTAMP:20260421T132627Z
DTSTART:20260314T200000Z
DTEND:20260315T030000Z
DESCRIPTION:🔥 Echo Logic Dub Farm Session #3\nSamedi 14 Mars 2026 - 19h00 /
	 4h00\nFerme de Vendeuvre\nRue des Genêts\n86380 Vendeuvre-du-Poitou\n👉 Tr
	oisième session Echo Logic Dub Farm le 14 Mars 2026 organisée à la Ferme\n
	gérée par des passionnés de culture en plein terre\, d’écologie et de cult
	ure\nDub…\nDe 19h00 à 20h30 apéro boeuf musical inna Dub style... Si tu es
	 musicien et que\ntu veux partager un moment convivial alors n'hésites plu
	s (prévenir en amont de\nvotre venue par message !)\nDe 21h à 4h00 Session
	 Sound System avec :\n🔊 PhOniAndFlOre\n🔊 Hay Field Sound\n🔊 Avocat Dub\n🔊 
	Culture Dub Sound System ft Guru Pope\n💥 Plus qu'une simple soirée Sound S
	ystem ou Dub\, cette Echo Logic Dub Farm\nSession #3 nous permettra de nou
	s réunir\, d'échanger\, de soutenir cette ferme de\npassionnés de culture 
	à Vendeuvre-Du-Poitou... D'envisager de meilleurs\nsolutions pour nous\, n
	os enfants\, nos assiettes\, de meilleurs lendemains !\nParticipation au P
	anier Garni (PG) : 5 Euros - Pas de CB !!!!\nUne session ou l'appel du Dub
	 fait Echo aux pratiques culturales\n(culturelles)... ou l'inverse ! L'Ech
	o appelle les répliques (pensées\, actions\,\nrencontres)... Penser à la s
	uite !...\n👉 Pas de CB !!!\n👉👉 PENSEZ AU CO-VOITURAGE CAR LES PLACES DE PA
	RKING SONT LIMITÉES !!!\nDe préférence :\n- parking de la mairie/école (15
	mn à pied)\n- parking Tour Mirandes (15mn à pied)\n- parking Carrefour Mar
	ket (2km À pied)\n👉👉👉 PAS D'ANIMAUX SUR PLACE\, C'EST UNE FERME !!!\nPhOni
	AndFlOrE (Live Act – Marée Bass)\nProducteur français accroché au Dub et à
	 toutes ses sonorités qui l’entourent\,\nPhOniAndFlOrE créé ses propres so
	ns à la recherche d’émotions transcendantes et\nde vibrations groovantes… 
	Membre actif et co-fondateur du fameux crew Marée\nBass\, PhOniAndFlOrE sa
	ura enchanter tous les aficionados de heavyweight Dub\nStepper\, mais pas 
	que\, les mordus de musique Électro\, de Bass Music et de\nDubstep y trouv
	eront également leur compte\, comme tous les passionné de culture\nSound S
	ystem !\nHay Field Sound (DJ Set – Poitiers)\nHay Field Sound System\, c’e
	st l’histoire de 2 frères passionnés et de plusieurs\nannées de travail à 
	faire évoluer leur sono artisanale. Originaires de Poitiers\,\nils aiment 
	arroser le public de sélections tant Roots et incontournables que\nStepper
	 et Electro Dub\, mais aussi de productions maison et de mélodica en live\
	n!\nAvocat Dub (Live Act – Poitiers)\nAvocat Dub présente une version mélo
	dique et mentale du dub en associant des\nsonorités acoustiques à une tein
	te purement électronique. Une rythmique pleine\nde groove couplée à des ba
	sses bien assises\, le tout enveloppé dans des nappes à\nla frontière du p
	sychédélique… Comme l’avocat : du bon gras bien riche\, entre\ndouceur et 
	exotisme !\nGuru Pope (Saxophone – Nantes)\nReconnu pour ses prestations e
	nflammées et son saxophone magique\, Guru Pope\napportera sa touche instru
	mentale à cette Echo Logic Dub Farm. Ayant parcouru\nles scènes du Mexique
	 à la Pologne \, il est un habitué des sessions Dub\, où ses\nenvolées sax
	ophoniques transcendent chaque morceau.\nCulture Dub Sound System (4×21″ –
	 Poitiers)\nDéjà 26 ans d’activisme pour Culture Dub !! Le collectif nous 
	fera l’honneur de\nsonoriser la soirée avec ses légendaires SCOOPS en 21″.
	 Ce sound system militant\npuise dans l’héritage du Digital des années 80 
	et du Dub Stepper pour proposer\nun set énergique qui ne laissera personne
	 indifférent. Attendez-vous à une\nsession intense et immersive\, taillée 
	sur mesure pour les amateurs de basses\nprofondes et de skanks tranchants
URL:https://dubagenda.top/event/echo-logic-dub-farm-session-3
GEO:46.7387976;0.3060791
LOCATION:86380 Vendeuvre-du-Poitou // Ferme de Vendeuvre - Rue des Genêts\,
	 Lille\, Vendeuvre-du-Poitou\, Saint-Martin-la-Pallu\, Poitiers\, Vienne\,
	 Nouvelle-Aquitaine\, France métropolitaine\, 86380\, France
STATUS:CONFIRMED
CATEGORIES:2026,79,Sound System
X-ALT-DESC;FMTTYPE=text/html:<p>🔥 Echo Logic Dub Farm Session #3<br>Samedi 
	14 Mars 2026 - 19h00 / 4h00<br>Ferme de Vendeuvre<br>Rue des Genêts<br>863
	80 Vendeuvre-du-Poitou<br>👉 Troisième session Echo Logic Dub Farm le 14 Ma
	rs 2026 organisée à la Ferme gérée par des passionnés de culture en plein 
	terre, d’écologie et de culture Dub…<br>De 19h00 à 20h30 apéro boeuf music
	al inna Dub style... Si tu es musicien et que tu veux partager un moment c
	onvivial alors n'hésites plus (prévenir en amont de votre venue par messag
	e !)<br>De 21h à 4h00 Session Sound System avec :<br>🔊 PhOniAndFlOre<br>🔊 
	Hay Field Sound<br>🔊 Avocat Dub<br>🔊 Culture Dub Sound System ft Guru Pope
	<br>💥 Plus qu'une simple soirée Sound System ou Dub, cette Echo Logic Dub 
	Farm Session #3 nous permettra de nous réunir, d'échanger, de soutenir cet
	te ferme de passionnés de culture à Vendeuvre-Du-Poitou... D'envisager de 
	meilleurs solutions pour nous, nos enfants, nos assiettes, de meilleurs le
	ndemains !<br>Participation au Panier Garni (PG) : 5 Euros - Pas de CB !!!
	!<br>Une session ou l'appel du Dub fait Echo aux pratiques culturales (cul
	turelles)... ou l'inverse ! L'Echo appelle les répliques (pensées, actions
	, rencontres)... Penser à la suite !...<br>👉 Pas de CB !!!<br>👉👉 PENSEZ AU
	 CO-VOITURAGE CAR LES PLACES DE PARKING SONT LIMITÉES !!!<br>De préférence
	 :<br>- parking de la mairie/école (15mn à pied)<br>- parking Tour Mirande
	s (15mn à pied)<br>- parking Carrefour Market (2km À pied)<br>👉👉👉 PAS D'AN
	IMAUX SUR PLACE, C'EST UNE FERME !!!<br>PhOniAndFlOrE (Live Act – Marée Ba
	ss)<br>Producteur français accroché au Dub et à toutes ses sonorités qui l
	’entourent, PhOniAndFlOrE créé ses propres sons à la recherche d’émotions 
	transcendantes et de vibrations groovantes… Membre actif et co-fondateur d
	u fameux crew Marée Bass, PhOniAndFlOrE saura enchanter tous les aficionad
	os de heavyweight Dub Stepper, mais pas que, les mordus de musique Électro
	, de Bass Music et de Dubstep y trouveront également leur compte, comme to
	us les passionné de culture Sound System !<br>Hay Field Sound (DJ Set – Po
	itiers)<br>Hay Field Sound System, c’est l’histoire de 2 frères passionnés
	 et de plusieurs années de travail à faire évoluer leur sono artisanale. O
	riginaires de Poitiers, ils aiment arroser le public de sélections tant Ro
	ots et incontournables que Stepper et Electro Dub, mais aussi de productio
	ns maison et de mélodica en live !<br>Avocat Dub (Live Act – Poitiers)<br>
	Avocat Dub présente une version mélodique et mentale du dub en associant d
	es sonorités acoustiques à une teinte purement électronique. Une rythmique
	 pleine de groove couplée à des basses bien assises, le tout enveloppé dan
	s des nappes à la frontière du psychédélique… Comme l’avocat : du bon gras
	 bien riche, entre douceur et exotisme !<br>Guru Pope (Saxophone – Nantes)
	<br>Reconnu pour ses prestations enflammées et son saxophone magique, Guru
	 Pope apportera sa touche instrumentale à cette Echo Logic Dub Farm. Ayant
	 parcouru les scènes du Mexique à la Pologne , il est un habitué des sessi
	ons Dub, où ses envolées saxophoniques transcendent chaque morceau.<br>Cul
	ture Dub Sound System (4×21″ – Poitiers)<br>Déjà 26 ans d’activisme pour C
	ulture Dub !! Le collectif nous fera l’honneur de sonoriser la soirée avec
	 ses légendaires SCOOPS en 21″. Ce sound system militant puise dans l’héri
	tage du Digital des années 80 et du Dub Stepper pour proposer un set énerg
	ique qui ne laissera personne indifférent. Attendez-vous à une session int
	ense et immersive, taillée sur mesure pour les amateurs de basses profonde
	s et de skanks tranchants </p>
BEGIN:VALARM
ACTION:DISPLAY
DESCRIPTION:Echo Logic Dub Farm Session #3
TRIGGER:-PT1H
END:VALARM
END:VEVENT
END:VCALENDAR
