BEGIN:VCALENDAR
VERSION:2.0
CALSCALE:GREGORIAN
PRODID:adamgibbons/ics
METHOD:PUBLISH
X-PUBLISHED-TTL:PT1H
BEGIN:VEVENT
UID:104@dubagenda.top
SUMMARY:Dubsonic + Petah High Grade
DTSTAMP:20260421T132831Z
DTSTART:20251219T190000Z
DTEND:20251219T230000Z
DESCRIPTION:Soirée Dub avec DUBSONIC et PETAH HIGRADE vendredi 19 décembre 
	💥\nDès 20h00 - Prix libre à l’entrée 🤗\n\nDubsonic est un collectif crée e
	n 2003 autour d'une passion commune pour la\nmusique jamaicaine et plus pa
	rticulièrement pour les sounds systems. Leur propre\nsound fait maison est
	 inspiré des Sounds traditionnels tels que Jah Shaka\, Aba\nShanti I ... e
	t joue du Reggae/Dub des années 70's jusqu'à nos jours. 🇯🇲\nSuivre > https:
	//www.facebook.com/anthony.soullard.16\n[https://www.facebook.com/anthony.
	soullard.16]\nPetah Higrade\, MC militant et porte-voix du sound system\, 
	fait vibrer les\nsessions avec un style unique mêlant flow roots\, lyrics 
	conscients et énergie\nstepper.\nSur le micro\, il délivre un message clai
	r : unité\, respect et élévation —\ntoujours porté par la puissance du dub
	 et l’esprit original du reggae. 🎤\nDepuis plus de 20 ans aux côtés d’Ina 
	Di Sound\, il anime les danses\, chauffe les\nfoules et crée la connexion 
	entre le public\, la musique et le système.\nEntre rub-a-dub\, toasting\, 
	chants improvisés et messages culturels\, Petah\nHigrade incarne l’art du 
	MC sound system : authentique\, spontané\, vibrant.🔥\nSuivre > https://www
	.facebook.com/petah.higrade\n[https://www.facebook.com/petah.higrade]\nINF
	OS PRATIQUES\n• Le bar ouvre dès 16h30 ! 🍻\n• Restauration sur place avec 
	préfous et bruschetta maison\, planches apéros\nlocales (mixtes et végé)\,
	 saucissons et rillettes locales ! De quoi régaler tout\nle monde 🧀🥓\n\nÀ 
	vendredi\, les oiseaux de nuit ! 🦉
URL:https://dubagenda.top/event/dubsonic-petah-high-grade
GEO:46.7424194;-1.7576236
LOCATION:85220 Apremont - Le Grand Duc\, La Thébaultière\, Apremont\, La Ro
	che-sur-Yon\, Vendée\, Pays de la Loire\, France métropolitaine\, 85220\, 
	France
STATUS:CONFIRMED
CATEGORIES:2025,85,Sound System
X-ALT-DESC;FMTTYPE=text/html:<p>Soirée Dub avec DUBSONIC et PETAH HIGRADE v
	endredi 19 décembre 💥<br>Dès 20h00 - Prix libre à l’entrée 🤗<br><br>Dubson
	ic est un collectif crée en 2003 autour d'une passion commune pour la musi
	que jamaicaine et plus particulièrement pour les sounds systems. Leur prop
	re sound fait maison est inspiré des Sounds traditionnels tels que Jah Sha
	ka, Aba Shanti I ... et joue du Reggae/Dub des années 70's jusqu'à nos jou
	rs. 🇯🇲<br>Suivre &gt; <a target="_blank" href="https://www.facebook.com/ant
	hony.soullard.16">https://www.facebook.com/anthony.soullard.16</a><br>Peta
	h Higrade, MC militant et porte-voix du sound system, fait vibrer les sess
	ions avec un style unique mêlant flow roots, lyrics conscients et énergie 
	stepper.<br>Sur le micro, il délivre un message clair : unité, respect et 
	élévation — toujours porté par la puissance du dub et l’esprit original du
	 reggae. 🎤<br>Depuis plus de 20 ans aux côtés d’Ina Di Sound, il anime les
	 danses, chauffe les foules et crée la connexion entre le public, la musiq
	ue et le système.<br>Entre rub-a-dub, toasting, chants improvisés et messa
	ges culturels, Petah Higrade incarne l’art du MC sound system : authentiqu
	e, spontané, vibrant.🔥<br>Suivre &gt; <a target="_blank" href="https://www
	.facebook.com/petah.higrade">https://www.facebook.com/petah.higrade</a><br
	>INFOS PRATIQUES<br>• Le bar ouvre dès 16h30 ! 🍻<br>• Restauration sur pla
	ce avec préfous et bruschetta maison, planches apéros locales (mixtes et v
	égé), saucissons et rillettes locales ! De quoi régaler tout le monde 🧀🥓<b
	r><br>À vendredi, les oiseaux de nuit ! 🦉</p>
BEGIN:VALARM
ACTION:DISPLAY
DESCRIPTION:Dubsonic + Petah High Grade
TRIGGER:-PT1H
END:VALARM
END:VEVENT
END:VCALENDAR
