BEGIN:VCALENDAR
VERSION:2.0
CALSCALE:GREGORIAN
PRODID:adamgibbons/ics
METHOD:PUBLISH
X-PUBLISHED-TTL:PT1H
BEGIN:VEVENT
UID:168@dubagenda.top
SUMMARY:Dub'N'Beer // Nabu + Roots Tabaga + Poppy
DTSTAMP:20260421T132654Z
DTSTART:20260417T180000Z
DTEND:20260417T220000Z
DESCRIPTION:🔊 𝘃𝗲𝗻𝗱𝗿𝗲𝗱𝗶 𝟭𝟳 𝗮𝘃𝗿𝗶𝗹 : sortie de la DUB'N'BEER + 3 sound systems
	\n: @nabu.soundsystem\, @rootstabaga & Poppy Sound System 💥\nLes 3 brasser
	ies incontournables de l'Ouest que sont @brasserie_smash\,\n@littleatlanti
	quebrewery et @brasserieaerofab ont collaboré pour créer une bière\nspécia
	le : la DUB'N'BEER !! 🍻 Et à l'occasion de cette Hazy Pale Ale\, chaque\nb
	rasserie a sélectionné un sound system pour une fat soirée à @aerofabtapro
	om au\nHangar à Bananes à Nantes !! 🔥 @nabu.soundsystem\, @rootstabaga et 
	le Poppy\nSound System seront aux commandes de ce vendredi\, ne loupez pas
	 ça !!\n🍻 La Dub'n'beer bénéficiera d'une offre spéciale !\n🪴 ɴᴀʙᴜ ꜱᴏᴜɴᴅ ꜱ
	ʏꜱᴛᴇᴍ : : MC Boa & @jinjahselecta\nDu Roots dansant au Stepper le plus per
	cutant\, en passant par la Bass Music et\nle Hip-Hop\, les sessions du Nab
	u Sound System sont avant tout un moment de\npartage et d’unité.\nPensé\, 
	fabriqué et assemblé par les soins du crew\, l’idée est de proposer la\nvi
	be et le ressenti d’un Sound classique\, tout en étant compact\, adaptable
	 et\ntransportable. Jinjah\, Mc Boa et tout l’équipe de Boxman Warrior vou
	s\nproposeront un moment en dehors du temps et de la Babylonerie.\n🪴 ʀᴏᴏᴛꜱ
	 ᴛᴀʙᴀɢᴀ\nDu roots profond aux vibrations les plus démoniaques\, Roots Taba
	ga te fait\nvoyager du Roots au Tabaga — du groove chaud et conscient jusq
	u’au stepper qui\nfait trembler les murs.\n🪴 ᴘᴏᴘᴘʏ ꜱᴏᴜɴᴅ ꜱʏꜱᴛᴇᴍ : @lei__co
	co & Pacifical Warriors\nLe Poppy sound system\, ce sont trois amis passio
	nnés par la musique qui se sont\nmis en tête de construire leur propre son
	o afin de partager des moments uniques\net vibrants.\nLeï Coco vous fera v
	oyager à travers tous styles de musique jusqu'à atteindre\nles basses prof
	ondes du dub lors de set où le vinyle est mis en avant !\nOriginaire des D
	ub Sèvres et actifs dans les années 2010\, les Pacifical Warriors\nont par
	tagé l'affiche aux côtés de Weeding Dub\, MC Oliva\, Itist.\nIls reviennen
	t avec une sélection forgée depuis plus de 20 ans\, pas de course à\nla du
	bplate (même s’il y en aura !)\, mais des classiques et collectors entre\n
	roots et dub.\n🔊_sound system_roots music\n🕣_vendredi 17 avril_20h\n💰_entr
	ée gratuite\n📍_Taproom_Aerofab\n21 quai des Antilles\, Nantes
URL:https://dubagenda.top/event/dubnbeer
GEO:47.2022774;-1.5726563
LOCATION:44200 Nantes // Taproom Aerofab - Quai des Antilles\, Sainte-Anne 
	- Zone portuaire\, Île de Nantes\, Nantes\, Loire-Atlantique\, Pays de la 
	Loire\, France métropolitaine\, 44276\, France
STATUS:CONFIRMED
CATEGORIES:Nantes,2026,Sound System
X-ALT-DESC;FMTTYPE=text/html:<p>🔊 𝘃𝗲𝗻𝗱𝗿𝗲𝗱𝗶 𝟭𝟳 𝗮𝘃𝗿𝗶𝗹 : sortie de la DUB'N'BE
	ER + 3 sound systems : @nabu.soundsystem, @rootstabaga &amp; Poppy Sound S
	ystem 💥<br>Les 3 brasseries incontournables de l'Ouest que sont @brasserie
	_smash, @littleatlantiquebrewery et @brasserieaerofab ont collaboré pour c
	réer une bière spéciale : la DUB'N'BEER !! 🍻 Et à l'occasion de cette Hazy
	 Pale Ale, chaque brasserie a sélectionné un sound system pour une fat soi
	rée à @aerofabtaproom au Hangar à Bananes à Nantes !! 🔥 @nabu.soundsystem,
	 @rootstabaga et le Poppy Sound System seront aux commandes de ce vendredi
	, ne loupez pas ça !!<br>🍻 La Dub'n'beer bénéficiera d'une offre spéciale 
	!<br>🪴 ɴᴀʙᴜ ꜱᴏᴜɴᴅ ꜱʏꜱᴛᴇᴍ : : MC Boa &amp; @jinjahselecta<br>Du Roots dansa
	nt au Stepper le plus percutant, en passant par la Bass Music et le Hip-Ho
	p, les sessions du Nabu Sound System sont avant tout un moment de partage 
	et d’unité.<br>Pensé, fabriqué et assemblé par les soins du crew, l’idée e
	st de proposer la vibe et le ressenti d’un Sound classique, tout en étant 
	compact, adaptable et transportable. Jinjah, Mc Boa et tout l’équipe de Bo
	xman Warrior vous proposeront un moment en dehors du temps et de la Babylo
	nerie.<br>🪴 ʀᴏᴏᴛꜱ ᴛᴀʙᴀɢᴀ<br>Du roots profond aux vibrations les plus démon
	iaques, Roots Tabaga te fait voyager du Roots au Tabaga — du groove chaud 
	et conscient jusqu’au stepper qui fait trembler les murs.<br>🪴 ᴘᴏᴘᴘʏ ꜱᴏᴜɴᴅ
	 ꜱʏꜱᴛᴇᴍ : @lei__coco &amp; Pacifical Warriors<br>Le Poppy sound system, ce
	 sont trois amis passionnés par la musique qui se sont mis en tête de cons
	truire leur propre sono afin de partager des moments uniques et vibrants.<
	br>Leï Coco vous fera voyager à travers tous styles de musique jusqu'à att
	eindre les basses profondes du dub lors de set où le vinyle est mis en ava
	nt !<br>Originaire des Dub Sèvres et actifs dans les années 2010, les Paci
	fical Warriors ont partagé l'affiche aux côtés de Weeding Dub, MC Oliva, I
	tist.<br>Ils reviennent avec une sélection forgée depuis plus de 20 ans, p
	as de course à la dubplate (même s’il y en aura !), mais des classiques et
	 collectors entre roots et dub.<br>🔊_sound system_roots music<br>🕣_vendred
	i 17 avril_20h<br>💰_entrée gratuite<br>📍_Taproom_Aerofab<br>21 quai des An
	tilles, Nantes</p>
BEGIN:VALARM
ACTION:DISPLAY
DESCRIPTION:Dub'N'Beer // Nabu + Roots Tabaga + Poppy
TRIGGER:-PT1H
END:VALARM
END:VEVENT
END:VCALENDAR
