BEGIN:VCALENDAR
VERSION:2.0
CALSCALE:GREGORIAN
PRODID:adamgibbons/ics
METHOD:PUBLISH
X-PUBLISHED-TTL:PT1H
BEGIN:VEVENT
UID:63@dubagenda.top
SUMMARY:Dubmeeting // Groundzags meets Bandicoot
DTSTAMP:20260421T151944Z
DTSTART:20251108T180000Z
DTEND:20251109T010000Z
DESCRIPTION:Salut à tous !\nDe retour pour un dub meeting le 8 novembre\; l
	à où tout a commencé dans le\nsous-sol de la taverne.\nÇa sera malheureuse
	ment la dernière fois dans ce lieu qui a permis à énormément\nde crew de s
	’exprimer et de pouvoir ramener sa sono.\nOn sera avec le big Bandicoot Hi
	-fi pour un ultime meeting ancenien dans ce\nlieu.\n8 novembre 2025\nDébut
	 19h/ fin 2h\n4€ en espèces\n672 rue des maitres 44150 Ancenis\nOnly good 
	people are welcome
URL:https://dubagenda.top/event/dubmeeting-groundzags-meets-bandicoot
GEO:47.3702805;-1.189833
LOCATION:44150 Ancenis // La Taverne - Boulevard Montaigne\, Le Clos Géréon
	\, Le Tertre\, Saint-Géréon\, Ancenis-Saint-Géréon\, Châteaubriant-Ancenis
	\, Loire-Atlantique\, Pays de la Loire\, France métropolitaine\, 44150\, F
	rance
STATUS:CONFIRMED
CATEGORIES:2025,Nantes,Sound System
X-ALT-DESC;FMTTYPE=text/html:<p>Salut à tous !<br>De retour pour un dub mee
	ting le 8 novembre; là où tout a commencé dans le sous-sol de la taverne.<
	br>Ça sera malheureusement la dernière fois dans ce lieu qui a permis à én
	ormément de crew de s’exprimer et de pouvoir ramener sa sono.<br>On sera a
	vec le big Bandicoot Hi-fi pour un ultime meeting ancenien dans ce lieu.<b
	r>8 novembre 2025<br>Début 19h/ fin 2h<br>4€ en espèces<br>672 rue des mai
	tres 44150 Ancenis<br>Only good people are welcome </p>
BEGIN:VALARM
ACTION:DISPLAY
DESCRIPTION:Dubmeeting // Groundzags meets Bandicoot
TRIGGER:-PT1H
END:VALARM
END:VEVENT
END:VCALENDAR
