BEGIN:VCALENDAR
VERSION:2.0
CALSCALE:GREGORIAN
PRODID:adamgibbons/ics
METHOD:PUBLISH
X-PUBLISHED-TTL:PT1H
BEGIN:VEVENT
UID:12@dubagenda.top
SUMMARY:Dub to Trance #2
DTSTAMP:20260421T151322Z
DTSTART:20250816T120000Z
DTEND:20250816T200000Z
DESCRIPTION:Le Château de Kerambarh et le Blue Wave Sound System vous donne
	nt rendez-vous\npour la seconde édition de Dub to Trance.\nUn voyage sonor
	e unique\, entre dub\, techno et trance : trois univers pour une\nseule en
	vie — partager de belles vibrations.\nTransat au soleil\, coin d’ombre sou
	s les arbres ou au cœur du dancefloor :\nchacun peut vivre le moment à son
	 rythme.\nEn famille\, entre amis ou par simple curiosité\, tout le monde 
	trouve sa place.\nMusique\, jeux\, jus frais\, bières artisanales\n— une a
	près-midi placée sous le signe de la détente\, une soirée pleine\nd’énergi
	e.\n------------\n🎵🔉⚡ Blue Wave Sound System 🌊🌊\nPremière date officielle 
	au Château\n------------\n🎧 Line-up :\nRDH Hi-fi\nDub – Popo Kush\nTechno 
	– Decadence District\nTrance – Marcu$\n\n------------\n🍺 Bière locale\, bi
	o et excélente (Saint-Nolff)\n🍏 Cidre et jus local\, bio et excellent (Loc
	oal-Mendon)\n------------\n🕐 Horaires : 14h – 22h (après\, c’est la nuit)\
	n🦫 Animaux non admis (sauf les licornes)\n\n------------\nBillets en quant
	ité limité\n5 euros en prévente\n7 euros sur place\ngratuit pour les enfan
	ts\n------------\n📬 Contact :\nkerambarh@gmail.com\n06 75 45 28 47\n
URL:https://dubagenda.top/event/dub-to-trance-1
GEO:47.735808;-3.1079051
LOCATION:56690 Landaul - Château de Kerambarh\, Route de Mendon\, Langombra
	c'h\, Landaul\, Lorient\, Morbihan\, Bretagne\, France métropolitaine\, 56
	690\, France
STATUS:CONFIRMED
CATEGORIES:2025,Ouest,56,Sound System
X-ALT-DESC;FMTTYPE=text/html:<p>Le Château de Kerambarh et le Blue Wave Sou
	nd System vous donnent rendez-vous pour la seconde édition de Dub to Tranc
	e.<br>Un voyage sonore unique, entre dub, techno et trance : trois univers
	 pour une seule envie — partager de belles vibrations.<br>Transat au solei
	l, coin d’ombre sous les arbres ou au cœur du dancefloor : chacun peut viv
	re le moment à son rythme.<br>En famille, entre amis ou par simple curiosi
	té, tout le monde trouve sa place.<br>Musique, jeux, jus frais, bières art
	isanales<br>— une après-midi placée sous le signe de la détente, une soiré
	e pleine d’énergie.<br>------------<br>🎵🔉⚡ Blue Wave Sound System 🌊🌊<br>Pr
	emière date officielle au Château<br>------------<br>🎧 Line-up :<br>RDH Hi
	-fi<br>Dub – Popo Kush<br>Techno – Decadence District<br>Trance – Marcu$<b
	r><br>------------<br>🍺 Bière locale, bio et excélente (Saint-Nolff)<br>🍏 
	Cidre et jus local, bio et excellent (Locoal-Mendon)<br>------------<br>🕐 
	Horaires : 14h – 22h (après, c’est la nuit)<br>🦫 Animaux non admis (sauf l
	es licornes)<br><br>------------<br>Billets en quantité limité<br>5 euros 
	en prévente<br>7 euros sur place<br>gratuit pour les enfants<br>----------
	--<br>📬 Contact :<br>kerambarh@gmail.com<br>06 75 45 28 47<br></p>
BEGIN:VALARM
ACTION:DISPLAY
DESCRIPTION:Dub to Trance #2
TRIGGER:-PT1H
END:VALARM
END:VEVENT
END:VCALENDAR
