BEGIN:VCALENDAR
VERSION:2.0
CALSCALE:GREGORIAN
PRODID:adamgibbons/ics
METHOD:PUBLISH
X-PUBLISHED-TTL:PT1H
BEGIN:VEVENT
UID:102@dubagenda.top
SUMMARY:Dub Story #2 // Higher Meditation & Corpo Sub Sound
DTSTAMP:20260421T135540Z
DTSTART:20260418T170000Z
DTEND:20260419T000000Z
URL:https://dubagenda.top/event/dub-story-2-higher-meditation-and-corpo-sub
	-sound
GEO:47.1743907;-1.6054354
LOCATION:44340 Bouguenais // Piano'cktail - Rue Ginsheim-Gustavsburg\, Le M
	oulin\, Bouguenais\, Nantes\, Loire-Atlantique\, Pays de la Loire\, France
	 métropolitaine\, 44340\, France
STATUS:CONFIRMED
CATEGORIES:Nantes,2026,Sound System
BEGIN:VALARM
ACTION:DISPLAY
DESCRIPTION:Dub Story #2 // Higher Meditation & Corpo Sub Sound
TRIGGER:-PT1H
END:VALARM
END:VEVENT
END:VCALENDAR
