BEGIN:VCALENDAR
VERSION:2.0
CALSCALE:GREGORIAN
PRODID:adamgibbons/ics
METHOD:PUBLISH
X-PUBLISHED-TTL:PT1H
BEGIN:VEVENT
UID:139@dubagenda.top
SUMMARY:Dub Side Session #12 // Osmoz Sound System & One A Dem
DTSTAMP:20260421T134117Z
DTSTART:20260313T200000Z
DTEND:20260314T010000Z
DESCRIPTION:One A Dem revient à la salle Emeraude avec un nouveau concept e
	n invitant Osmoz\nSound System pour sonoriser la soirée et partager la sél
	ection.\nSoundsystem basé dans la région nantaise\, Osmoz est un collectif
	 fondé par 7\namis passionnés par la culture soundsystem et la musique sou
	s toutes ses formes.\nEquipé de sa sono DIY\, de 2 sélecteurs/opérateurs a
	insi que d’un MC\, Osmoz\ns’évertue à promouvoir les valeurs qui lui sont 
	chères à travers les sessions\nqu’il organise ou anime. Avec une sélection
	 allant du Roots au Steppers en\npassant par le Dub UK\, Osmoz propose une
	 danse énergique\, spirituelle et\nméditative.\nAll tribes welcome.\nÉcout
	ez notre musique : https://oneadem.bandcamp.com/\n[https://oneadem.bandcam
	p.com/]\nhttps://iyahflix.bandcamp.com/ [https://iyahflix.bandcamp.com/]
URL:https://dubagenda.top/event/dub-side-session-12-osmoz-sound-system-and-
	one-a-dem
GEO:46.8418833;-0.4905689
LOCATION:79300 Bressuire // Salle Emeraude - 20\, Place Dupin\, Bressuire\,
	 Deux-Sèvres\, Nouvelle-Aquitaine\, France métropolitaine\, 79300\, France
STATUS:CONFIRMED
CATEGORIES:2026,79,Sound System
X-ALT-DESC;FMTTYPE=text/html:<p>One A Dem revient à la salle Emeraude avec 
	un nouveau concept en invitant Osmoz Sound System pour sonoriser la soirée
	 et partager la sélection.<br>Soundsystem basé dans la région nantaise, Os
	moz est un collectif fondé par 7 amis passionnés par la culture soundsyste
	m et la musique sous toutes ses formes. Equipé de sa sono DIY, de 2 sélect
	eurs/opérateurs ainsi que d’un MC, Osmoz s’évertue à promouvoir les valeur
	s qui lui sont chères à travers les sessions qu’il organise ou anime. Avec
	 une sélection allant du Roots au Steppers en passant par le Dub UK, Osmoz
	 propose une danse énergique, spirituelle et méditative.<br>All tribes wel
	come.<br>Écoutez notre musique : <a target="_blank" href="https://oneadem.
	bandcamp.com/">https://oneadem.bandcamp.com/</a><br><a target="_blank" hre
	f="https://iyahflix.bandcamp.com/">https://iyahflix.bandcamp.com/</a> </p>
BEGIN:VALARM
ACTION:DISPLAY
DESCRIPTION:Dub Side Session #12 // Osmoz Sound System & One A Dem
TRIGGER:-PT1H
END:VALARM
END:VEVENT
END:VCALENDAR
