BEGIN:VCALENDAR
VERSION:2.0
CALSCALE:GREGORIAN
PRODID:adamgibbons/ics
METHOD:PUBLISH
X-PUBLISHED-TTL:PT1H
BEGIN:VEVENT
UID:95@dubagenda.top
SUMMARY:Dub Side Session #11 // One A Dub Sound System
DTSTAMP:20260421T132820Z
DTSTART:20251219T200000Z
DTEND:20251220T010000Z
DESCRIPTION:One A Dem Sound System revient à la salle Emeraude pour une nou
	velle session en\nmode full Sound\, full crew.\n\nRetrouvez toute la fine 
	équipe qui vous prépare une sélection maison avec\ndisques et dubplates. A
	u contrôle\, King Vibration\, Tom OAD\, Iyah Flix et bien\nd'autres pour u
	ne session en mode family.\n\nAll tribes welcome. Écoutez notre musique : 
	https://oneadem.bandcamp.com/\n[https://oneadem.bandcamp.com/]\nhttps://iy
	ahflix.bandcamp.com/ [https://iyahflix.bandcamp.com/]
URL:https://dubagenda.top/event/dub-side-session-11-one-a-dub-sound-system
GEO:46.8418833;-0.4905689
LOCATION:79300 Bressuire // Salle Emeraude - 20\, Place Dupin\, Bressuire\,
	 Deux-Sèvres\, Nouvelle-Aquitaine\, France métropolitaine\, 79300\, France
STATUS:CONFIRMED
CATEGORIES:2025,79,Sound System
X-ALT-DESC;FMTTYPE=text/html:<p>One A Dem Sound System revient à la salle E
	meraude pour une nouvelle session en mode full Sound, full crew.</p><p>Ret
	rouvez toute la fine équipe qui vous prépare une sélection maison avec dis
	ques et dubplates. Au contrôle, King Vibration, Tom OAD, Iyah Flix et bien
	 d'autres pour une session en mode family.</p><p>All tribes welcome. Écout
	ez notre musique : <a href="https://oneadem.bandcamp.com/" target="_blank"
	>https://oneadem.bandcamp.com/</a><br><a href="https://iyahflix.bandcamp.c
	om/" target="_blank">https://iyahflix.bandcamp.com/</a></p>
BEGIN:VALARM
ACTION:DISPLAY
DESCRIPTION:Dub Side Session #11 // One A Dub Sound System
TRIGGER:-PT1H
END:VALARM
END:VEVENT
END:VCALENDAR
