BEGIN:VCALENDAR
VERSION:2.0
CALSCALE:GREGORIAN
PRODID:adamgibbons/ics
METHOD:PUBLISH
X-PUBLISHED-TTL:PT1H
BEGIN:VEVENT
UID:18@dubagenda.top
SUMMARY:Dub Sharing #2      //    Sub Rustik Sound System & AnimaSound
DTSTAMP:20260421T151405Z
DTSTART:20250823T140000Z
DTEND:20250823T220000Z
DESCRIPTION:Yooo!! Rendez vous le 23 août pour la 2ème edition de DUB’SHARI
	NG🎛 à la\nguinguette toute neuve de couffé @10verres_et_dete pour groover 
	tous ensemble\n!!🔊Et cette fois ci en compagnie de @anima_sound_system qui
	 nous font le\nplaisir d’être présent pour une belle session d’été💥 Réserv
	es ton samedi🤙!\nInfos pratiques:\nEntrée gratuite\nLa roche Couffé📍\n16h0
	0-00h\n2 bass
URL:https://dubagenda.top/event/dub-sharing-2-sub-rustik-sound-system-and-a
	nimasound
GEO:47.394631;-1.2976498
LOCATION:44521 Couffé // Guinguette - La Roche\, D 25\, Le Haut-Mauregard\,
	 Couffé\, Châteaubriant-Ancenis\, Loire-Atlantique\, Pays de la Loire\, Fr
	ance métropolitaine\, 44521\, France
STATUS:CONFIRMED
CATEGORIES:2025,Nantes,Sound System
X-ALT-DESC;FMTTYPE=text/html:<p>Yooo!! Rendez vous le 23 août pour la 2ème 
	edition de DUB’SHARING🎛 à la guinguette toute neuve de couffé @10verres_et
	_dete pour groover tous ensemble !!🔊Et cette fois ci en compagnie de @anim
	a_sound_system qui nous font le plaisir d’être présent pour une belle sess
	ion d’été💥 Réserves ton samedi🤙!<br>Infos pratiques:<br>Entrée gratuite<br
	>La roche Couffé📍<br>16h00-00h<br>2 bass</p>
BEGIN:VALARM
ACTION:DISPLAY
DESCRIPTION:Dub Sharing #2      //    Sub Rustik Sound System & AnimaSound
TRIGGER:-PT1H
END:VALARM
END:VEVENT
END:VCALENDAR
