BEGIN:VCALENDAR
VERSION:2.0
CALSCALE:GREGORIAN
PRODID:adamgibbons/ics
METHOD:PUBLISH
X-PUBLISHED-TTL:PT1H
BEGIN:VEVENT
UID:41@dubagenda.top
SUMMARY:Dub Session Angers
DTSTAMP:20260421T150002Z
DTSTART:20250920T170000Z
DTEND:20250920T230000Z
DESCRIPTION:ANGERS VIBRE AU RYTHME DU DUB ! 🔥\nLa rentrée s'annonce chaude 
	! Le 20 septembre\, Chap'Asso et Rastas du Cœur\nt'invitent à une soirée D
	ub Session au Quart'Ney !\nViens prendre ta dose de bonnes vibes avec le p
	uissant Steppaddict Soundsystem\net les artistes de talent Junior Roy\, AB
	SO\, IKADUB et Snorri Da Real !\nPrépare-toi à une nuit mémorable\, on t'a
	ttend pour faire trembler Angers ! 🎶
URL:https://dubagenda.top/event/dub-session-angers
GEO:47.479253;-0.5432194
LOCATION:49100 Angers // le Quart'Ney - Rue Duboys\, Saint-Serge\, Saint-Se
	rge - Ney - Chalouère\, Angers\, Maine-et-Loire\, Pays de la Loire\, Franc
	e métropolitaine\, 49100\, France
STATUS:CONFIRMED
CATEGORIES:2025,49,Sound System
X-ALT-DESC;FMTTYPE=text/html:<p>ANGERS VIBRE AU RYTHME DU DUB ! 🔥<br>La ren
	trée s'annonce chaude ! Le 20 septembre, Chap'Asso et Rastas du Cœur t'inv
	itent à une soirée Dub Session au Quart'Ney !<br>Viens prendre ta dose de 
	bonnes vibes avec le puissant Steppaddict Soundsystem et les artistes de t
	alent Junior Roy, ABSO, IKADUB et Snorri Da Real !<br>Prépare-toi à une nu
	it mémorable, on t'attend pour faire trembler Angers ! 🎶</p>
BEGIN:VALARM
ACTION:DISPLAY
DESCRIPTION:Dub Session Angers
TRIGGER:-PT1H
END:VALARM
END:VEVENT
END:VCALENDAR
