BEGIN:VCALENDAR
VERSION:2.0
CALSCALE:GREGORIAN
PRODID:adamgibbons/ics
METHOD:PUBLISH
X-PUBLISHED-TTL:PT1H
BEGIN:VEVENT
UID:9@dubagenda.top
SUMMARY:Dub Order #5 // King Eartquake (All night long) sur le Dub Livity S
	ound System
DTSTAMP:20260421T150534Z
DTSTART:20260403T210000Z
DTEND:20260404T030000Z
DESCRIPTION:Le DUB ORDER envahit le Warehouse à Nantes le vendredi 3 avril 
	2026 !\nPour cette 5ème édition\, on vous prépare une nuit hors du temps\,
	 portée par un\nartiste légendaires de la scène sound system international
	e…\nEt pas des moindres : KING EARTHQUAKE\, monstre sacré du dub UK\, sera
	\nexceptionnellement de passage à Nantes pour une date exclusive. Un momen
	t rare\,\nintense\, à ne pas manquer !\n——————————————————\n𝐋𝐢𝐧𝐞-𝐮𝐩\nROOM 
	1 ↓\n▸ KING EARTHQUAKE (All night long) sur le Dub Livity Sound System\nRO
	OM 2 ↓\n▸ À venir\n——————————————————\n𝐈𝐧𝐟𝐨𝐬 𝐛𝐢𝐥𝐥𝐞𝐭𝐭𝐞𝐫𝐢𝐞\nPrévente à parti
	r de 13\,99€ en quantité limitée\, disponible sur l’application\nWarehouse
	 ou sur Pass Culture\n\nhttps://www.warehouse-nantes.fr/event/dub-order-5-
	pres-king-eathquake-8-bass-dub-livity-more#ticketing\n[https://www.warehou
	se-nantes.fr/event/dub-order-5-pres-king-eathquake-8-bass-dub-livity-more#
	ticketing]\n——————————————————\n
URL:https://dubagenda.top/event/dub-order-5
GEO:47.2012309;-1.5728972
LOCATION:44200 Nantes // Warehouse - 21\, Quai des Antilles\, Sainte-Anne -
	 Zone portuaire\, Île de Nantes\, Nantes\, Loire-Atlantique\, Pays de la L
	oire\, France métropolitaine\, 44200\, France
STATUS:CONFIRMED
CATEGORIES:Nantes,2026,Sound System
X-ALT-DESC;FMTTYPE=text/html:<p>Le DUB ORDER envahit le Warehouse à Nantes 
	le vendredi 3 avril 2026 ! <br>Pour cette 5ème édition, on vous prépare un
	e nuit hors du temps, portée par un artiste légendaires de la scène sound 
	system internationale…<br>Et pas des moindres : KING EARTHQUAKE, monstre s
	acré du dub UK, sera exceptionnellement de passage à Nantes pour une date 
	exclusive. Un moment rare, intense, à ne pas manquer ! <br>———————————————
	———<br>𝐋𝐢𝐧𝐞-𝐮𝐩<br>ROOM 1 ↓<br>▸ KING EARTHQUAKE (All night long) sur le Du
	b Livity Sound System<br>ROOM 2 ↓<br>▸ À venir <br>——————————————————<br>𝐈
	𝐧𝐟𝐨𝐬 𝐛𝐢𝐥𝐥𝐞𝐭𝐭𝐞𝐫𝐢𝐞<br>Prévente à partir de 13,99€ en quantité limitée, dispo
	nible sur l’application Warehouse ou sur Pass Culture</p><p><a href="https
	://www.warehouse-nantes.fr/event/dub-order-5-pres-king-eathquake-8-bass-du
	b-livity-more#ticketing" target="_blank">https://www.warehouse-nantes.fr/e
	vent/dub-order-5-pres-king-eathquake-8-bass-dub-livity-more#ticketing</a><
	br>——————————————————<br></p>
BEGIN:VALARM
ACTION:DISPLAY
DESCRIPTION:Dub Order #5 // King Eartquake (All night long) sur le Dub Livi
	ty Sound System
TRIGGER:-PT1H
END:VALARM
END:VEVENT
END:VCALENDAR
