BEGIN:VCALENDAR
VERSION:2.0
CALSCALE:GREGORIAN
PRODID:adamgibbons/ics
METHOD:PUBLISH
X-PUBLISHED-TTL:PT1H
BEGIN:VEVENT
UID:32@dubagenda.top
SUMMARY:Dub Night #5
DTSTAMP:20260421T151306Z
DTSTART:20250920T160000Z
DTEND:20250921T020000Z
DESCRIPTION:🟣DUB NIGHT #5🟣\n\nOn se retrouve samedi 20 septembre pour une n
	ouvelle session indoor dans un\ncadre magnifique sonorisé par les 4 basses
	 du @jobadub sound system !!\n\n📍Saint Dolay (adresse en dm sur le compte 
	@jobadub)\n\n💶Prix libre\, prix conscient\n\n🍔Bar/snack Attention jauge ul
	tra limitée !!\n\n@propadub_sound_system @siren.dub.soundsystem @bozee56
URL:https://dubagenda.top/event/dub-night-5
GEO:47.5452971;-2.1550384
LOCATION:56130 Saint Dolay - Saint-Dolay\, Vannes\, Morbihan\, Bretagne\, F
	rance métropolitaine\, 56130\, France
STATUS:CONFIRMED
CATEGORIES:2025,56,Sound System
X-ALT-DESC;FMTTYPE=text/html:<p>🟣DUB NIGHT #5🟣 </p><p>On se retrouve samedi
	 20 septembre pour une nouvelle session indoor dans un cadre magnifique so
	norisé par les 4 basses du @jobadub sound system !! </p><p>📍Saint Dolay (a
	dresse en dm sur le compte @jobadub) </p><p>💶Prix libre, prix conscient </
	p><p>🍔Bar/snack Attention jauge ultra limitée !! </p><p>@propadub_sound_sy
	stem @siren.dub.soundsystem @bozee56</p>
BEGIN:VALARM
ACTION:DISPLAY
DESCRIPTION:Dub Night #5
TRIGGER:-PT1H
END:VALARM
END:VEVENT
END:VCALENDAR
