BEGIN:VCALENDAR
VERSION:2.0
CALSCALE:GREGORIAN
PRODID:adamgibbons/ics
METHOD:PUBLISH
X-PUBLISHED-TTL:PT1H
BEGIN:VEVENT
UID:130@dubagenda.top
SUMMARY:Dub Meeting #1 // Heartikal Vibes meets Youth Collective
DTSTAMP:20260421T152127Z
DTSTART:20260307T190000Z
DTEND:20260308T020000Z
DESCRIPTION:DUB MEETING #1 Heartikal Vibes invite Youth Collective\n\n🤝 Sou
	nd systems meeting – 2x2 bass\n\n📆 Samedi 7 mars 🕦 20h – 3h\n\n📍Domaine Jo
	sselin Bouet\, Pé de Sèvre\, 44330 Le Pallet\n\n🎫 Préventes : 7 € Entrées 
	limitées\, tickets disponibles en bio Instagram\n\n🚐 Stationnement restrei
	nt\, privilégiez le covoiturage\n\n🍻 Boissons en vente sur place\n\n🥪 Pas 
	de nourriture sur place\, possibilité de ramener la vôtre\n\n🫸 Interdit au
	x mineurs\n\n💚 Nos événements sont des espaces de bienveillance et de part
	age. Le respect\ndes autres participants\, des artistes et du sound system
	 est essentiel. Aucun\ncomportement déplacé ne sera toléré et entraînera u
	ne exclusion définitive de\nnos événements\n\n👩‍🎨 Artwork : @chazal.design [
	http://chazal.design]
URL:https://dubagenda.top/event/dub-meeting-1-heartikal-vibes-meets-youth-c
	ollective
GEO:47.1474304;-1.3658611
LOCATION:44330 Le Pallet // Domaine Josselin Bouet - Le Pé de Sèvre\, Le Pa
	llet\, Nantes\, Loire-Atlantique\, Pays de la Loire\, France métropolitain
	e\, 44330\, France
STATUS:CONFIRMED
CATEGORIES:Nantes,2026,Sound System
X-ALT-DESC;FMTTYPE=text/html:<p>DUB MEETING #1 Heartikal Vibes invite Youth
	 Collective</p><p>🤝 Sound systems meeting – 2x2 bass</p><p>📆 Samedi 7 mars
	 🕦 20h – 3h</p><p>📍Domaine Josselin Bouet, Pé de Sèvre, 44330 Le Pallet</p
	><p>🎫 Préventes : 7 € Entrées limitées, tickets disponibles en bio Instagr
	am</p><p>🚐 Stationnement restreint, privilégiez le covoiturage </p><p>🍻 Bo
	issons en vente sur place</p><p>🥪 Pas de nourriture sur place, possibilité
	 de ramener la vôtre</p><p>🫸 Interdit aux mineurs</p><p>💚 Nos événements s
	ont des espaces de bienveillance et de partage. Le respect des autres part
	icipants, des artistes et du sound system est essentiel. Aucun comportemen
	t déplacé ne sera toléré et entraînera une exclusion définitive de nos évé
	nements</p><p>👩‍🎨 Artwork : @<a target="_blank" href="http://chazal.design">
	chazal.design</a></p>
BEGIN:VALARM
ACTION:DISPLAY
DESCRIPTION:Dub Meeting #1 // Heartikal Vibes meets Youth Collective
TRIGGER:-PT1H
END:VALARM
END:VEVENT
END:VCALENDAR
