BEGIN:VCALENDAR
VERSION:2.0
CALSCALE:GREGORIAN
PRODID:adamgibbons/ics
METHOD:PUBLISH
X-PUBLISHED-TTL:PT1H
BEGIN:VEVENT
UID:74@dubagenda.top
SUMMARY:Dub It IYAH #9 // Chalice Sound System
DTSTAMP:20260421T151405Z
DTSTART:20251213T190000Z
DTEND:20251214T040000Z
DESCRIPTION:Pour cette neuvième édition des Dub It iYah\, à la demande géné
	rale on remet ça!\nAprès la session mémorable de novembre 2024\, pas mal d
	e gens ont été frustrés\nd'avoir raté cette danse\, et beaucoup de personn
	es présentes nous demander\n"quand es-ce que vous réinvitez Chalice?"... E
	t bien ça se passera le 13\ndécembre 2025 !\nComme l'année dernière\, sono
	risé et animé par les vétérans du Chalice Sound\nSystem toute la nuit.\nCh
	alice Sound System\, c'est le collectif qui a éduqué à la pratique du soun
	d\nsystem une bonne partie des activistes du nord de la France depuis bien
	tôt 30\nans. Avec une section de basses amplifiée par un ampli à lampe\, C
	halice dispose\nd'une sonorité qu'on ne retrouve plus dans les sessions d'
	aujourd'hui\, et qui\nvous replonge dans l'ambiance des sessions anglaises
	 des années 80 et 90.\nDiffusant un message spirituel et engagé\, leur sél
	ection va du roots reggae le\nplus ancien aux dubs les plus récents.\nComm
	e lors de la première édition\, les amis du Chalice joueront non stop de 2
	0h\nà 5h du matin sur leur sono.\nDans la tradition des sound system angla
	is\, cet évènement est une célébration\nouverte à tous. Tout le monde est 
	le/la bienvenu(e)\, à l'exception des personnes\nne respectant pas les aut
	res. Autrement dit\, aucune forme d'agression\, de\nharcèlement\, de discr
	imination ou tout manque de respect envers autrui ne sera\ntoléré.\n\n\nPl
	us d'infos?\n• Prix d'entrée: 12€ pour les premiers billets\, 15€ en préve
	nte.\n• Nos soirées sont des soirées privées\, une carte d'adhérent vous s
	era demandée\nà l'entrée (possibilité d'adhérer à l'association à l'entrée
	 de la soirée\, 1€ la\ncarte - valable 1 an).\n• Un bar sera assuré sur pl
	ace.\n• Ouverture des portes à 20h\, fin de soirée à 5h. On vous demande d
	e bien\nvouloir quitter le parking avant 6h du matin.\n• La soirée est rés
	ervée aux majeurs\, et nos amies les bêtes ne sont\nmalheureusement pas au
	torisées\, même sur le parking.\n• Paiement CB accepté.\n• Vente de vinyle
	s sur place.\nOn espère vous retrouver nombreux pour cette neuvième éditio
	n des Dub It iYah!\nOne Love
URL:https://dubagenda.top/event/dub-it-iyah-9-chalice-sound-system
GEO:47.1228371;-1.2808726
LOCATION:44330 Mouzillon // Le Fief Du Vignoble - Rue du Chardonnais\, ZA d
	es Quatres Chemins\, La Coudaurière\, Mouzillon\, Nantes\, Loire-Atlantiqu
	e\, Pays de la Loire\, France métropolitaine\, 44330\, France
STATUS:CONFIRMED
CATEGORIES:2025,Nantes,Sound System
X-ALT-DESC;FMTTYPE=text/html:<p>Pour cette neuvième édition des Dub It iYah
	, à la demande générale on remet ça!<br>Après la session mémorable de nove
	mbre 2024, pas mal de gens ont été frustrés d'avoir raté cette danse, et b
	eaucoup de personnes présentes nous demander "quand es-ce que vous réinvit
	ez Chalice?"... Et bien ça se passera le 13 décembre 2025 !<br>Comme l'ann
	ée dernière, sonorisé et animé par les vétérans du Chalice Sound System to
	ute la nuit.<br>Chalice Sound System, c'est le collectif qui a éduqué à la
	 pratique du sound system une bonne partie des activistes du nord de la Fr
	ance depuis bientôt 30 ans. Avec une section de basses amplifiée par un am
	pli à lampe, Chalice dispose d'une sonorité qu'on ne retrouve plus dans le
	s sessions d'aujourd'hui, et qui vous replonge dans l'ambiance des session
	s anglaises des années 80 et 90. Diffusant un message spirituel et engagé,
	 leur sélection va du roots reggae le plus ancien aux dubs les plus récent
	s.<br>Comme lors de la première édition, les amis du Chalice joueront non 
	stop de 20h à 5h du matin sur leur sono.<br>Dans la tradition des sound sy
	stem anglais, cet évènement est une célébration ouverte à tous. Tout le mo
	nde est le/la bienvenu(e), à l'exception des personnes ne respectant pas l
	es autres. Autrement dit, aucune forme d'agression, de harcèlement, de dis
	crimination ou tout manque de respect envers autrui ne sera toléré.<br><br
	><br>Plus d'infos?<br>• Prix d'entrée: 12€ pour les premiers billets, 15€ 
	en prévente.<br>• Nos soirées sont des soirées privées, une carte d'adhére
	nt vous sera demandée à l'entrée (possibilité d'adhérer à l'association à 
	l'entrée de la soirée, 1€ la carte - valable 1 an).<br>• Un bar sera assur
	é sur place.<br>• Ouverture des portes à 20h, fin de soirée à 5h. On vous 
	demande de bien vouloir quitter le parking avant 6h du matin.<br>• La soir
	ée est réservée aux majeurs, et nos amies les bêtes ne sont malheureusemen
	t pas autorisées, même sur le parking.<br>• Paiement CB accepté.<br>• Vent
	e de vinyles sur place.<br>On espère vous retrouver nombreux pour cette ne
	uvième édition des Dub It iYah!<br>One Love</p>
BEGIN:VALARM
ACTION:DISPLAY
DESCRIPTION:Dub It IYAH #9 // Chalice Sound System
TRIGGER:-PT1H
END:VALARM
END:VEVENT
END:VCALENDAR
