BEGIN:VCALENDAR
VERSION:2.0
CALSCALE:GREGORIAN
PRODID:adamgibbons/ics
METHOD:PUBLISH
X-PUBLISHED-TTL:PT1H
BEGIN:VEVENT
UID:141@dubagenda.top
SUMMARY:Dub It Iyah #11 // Hitman & Fiza
DTSTAMP:20260421T135407Z
DTSTART:20260418T180000Z
DTEND:20260419T020000Z
DESCRIPTION:On est partis pour une onzième édition des Dub It iYah ! Et cet
	te fois ci on\nvous invite à un voyage musical dans le sud ouest de la Fra
	nce\, en invitant le\nduo Hitman & Fiza ! Producteurs et soundmen\, ils se
	 sont démarqués par leurs\nproductions maisons sorties en dubplate et en v
	inyle sur leur label Kettle\nRecords. Originaires de la région toulousaine
	\, ils viendront partager la session\navec l'équipe Steppaddict pour une d
	anse qui promet d'être mémorable !\nLa soirée sera\, comme à l'habitude\, 
	sonorisée par le Steppaddict Sound System.\n\n\nDans la tradition des soun
	d system anglais\, cet évènement est une célébration\nouverte à tou(te)s. 
	Tout le monde est le/la bienvenu(e)\, à l'exception des\npersonnes ne resp
	ectant pas les autres. Autrement dit\, aucune forme d'agression\,\nde harc
	èlement\, de discrimination ou tout manque de respect envers autrui ne\nse
	ra toléré. La consommation d'alcool ou autre produit n'excuse pas les\ncom
	portements oppressifs\, toute personne ne respectant pas les règles de bas
	e du\nvivre-ensemble sera exclue de toutes nos soirées.\nPlus d'infos?\n• 
	Prix d'entrée: 8€ pour les premiers billets\, 12€ en prévente.\n• Nos soir
	ées sont des soirées privées\, une carte d'adhérent vous sera demandée\nà 
	l'entrée (possibilité d'adhérer à l'association à l'entrée de la soirée\, 
	1€ la\ncarte - valable 1 an).\n• Un bar sera assuré sur place.\n• Ouvertur
	e des portes à 20h\, fin de soirée à 4h. On vous demande de bien\nvouloir 
	quitter le parking avant 5h du matin.\n• La soirée est réservée aux majeur
	s\, et nos amies les bêtes ne sont\nmalheureusement pas autorisées\, même 
	sur le parking.\n• Paiement CB accepté.\n• Vente de vinyles sur place.\nOn
	 espère vous retrouver nombreux pour cette dixième édition des Dub It iYah
	!\nOne Love
URL:https://dubagenda.top/event/dub-it-iyah-11-hitman-and-fiza
GEO:47.1228371;-1.2808726
LOCATION:44330 Mouzillon // Le Fief Du Vignoble - Rue du Chardonnais\, ZA d
	es Quatres Chemins\, La Coudaurière\, Mouzillon\, Nantes\, Loire-Atlantiqu
	e\, Pays de la Loire\, France métropolitaine\, 44330\, France
STATUS:CONFIRMED
CATEGORIES:Nantes,2026,Sound System
X-ALT-DESC;FMTTYPE=text/html:<p>On est partis pour une onzième édition des 
	Dub It iYah ! Et cette fois ci on vous invite à un voyage musical dans le 
	sud ouest de la France, en invitant le duo Hitman &amp; Fiza ! Producteurs
	 et soundmen, ils se sont démarqués par leurs productions maisons sorties 
	en dubplate et en vinyle sur leur label Kettle Records. Originaires de la 
	région toulousaine, ils viendront partager la session avec l'équipe Steppa
	ddict pour une danse qui promet d'être mémorable !<br>La soirée sera, comm
	e à l'habitude, sonorisée par le Steppaddict Sound System.<br><br><br>Dans
	 la tradition des sound system anglais, cet évènement est une célébration 
	ouverte à tou(te)s. Tout le monde est le/la bienvenu(e), à l'exception des
	 personnes ne respectant pas les autres. Autrement dit, aucune forme d'agr
	ession, de harcèlement, de discrimination ou tout manque de respect envers
	 autrui ne sera toléré. La consommation d'alcool ou autre produit n'excuse
	 pas les comportements oppressifs, toute personne ne respectant pas les rè
	gles de base du vivre-ensemble sera exclue de toutes nos soirées.<br>Plus 
	d'infos?<br>• Prix d'entrée: 8€ pour les premiers billets, 12€ en prévente
	.<br>• Nos soirées sont des soirées privées, une carte d'adhérent vous ser
	a demandée à l'entrée (possibilité d'adhérer à l'association à l'entrée de
	 la soirée, 1€ la carte - valable 1 an).<br>• Un bar sera assuré sur place
	.<br>• Ouverture des portes à 20h, fin de soirée à 4h. On vous demande de 
	bien vouloir quitter le parking avant 5h du matin.<br>• La soirée est rése
	rvée aux majeurs, et nos amies les bêtes ne sont malheureusement pas autor
	isées, même sur le parking.<br>• Paiement CB accepté.<br>• Vente de vinyle
	s sur place.<br>On espère vous retrouver nombreux pour cette dixième éditi
	on des Dub It iYah!<br>One Love </p>
BEGIN:VALARM
ACTION:DISPLAY
DESCRIPTION:Dub It Iyah #11 // Hitman & Fiza
TRIGGER:-PT1H
END:VALARM
END:VEVENT
END:VCALENDAR
