BEGIN:VCALENDAR
VERSION:2.0
CALSCALE:GREGORIAN
PRODID:adamgibbons/ics
METHOD:PUBLISH
X-PUBLISHED-TTL:PT1H
BEGIN:VEVENT
UID:110@dubagenda.top
SUMMARY:Dub It Iyah #10 // Steppadict All Night Long
DTSTAMP:20260421T153449Z
DTSTART:20260214T190000Z
DTEND:20260215T030000Z
DESCRIPTION:On y est: la dixième édition des Dub It iYah ! Après 3 années d
	'existence\, et\nune dizaine d’événements organisés\, toute l'équipe de l'
	association Steppaddict\nProduction est heureuse de pouvoir vous proposer 
	cette session\, qui marquera\négalement les 15 ans d'activités du Steppadd
	ict Sound System. Pour l'occasion\,\nl'équipe du Steppaddict Sound sera au
	 commandes pour une session "all night\nlong". Prépare tes skanking shoes\
	, averse de dubplates en prévision !\nPour célébrer leurs 15 années d'acti
	vité\, le Steppaddict Sound System réuni ses\nmembres actifs (et peut-être
	 quelques invités surprises) pour animer et\nsonoriser l'ensemble de la so
	irée.\nDans la tradition des sound system anglais\, cet évènement est une 
	célébration\nouverte à tou(te)s. Tout le monde est le/la bienvenu(e)\, à l
	'exception des\npersonnes ne respectant pas les autres. Autrement dit\, au
	cune forme d'agression\,\nde harcèlement\, de discrimination ou tout manqu
	e de respect envers autrui ne\nsera toléré.\n\nPlus d'infos?\n• Prix d'ent
	rée: 8€ pour les premiers billets\, 10€ en prévente.\n• Nos soirées sont d
	es soirées privées\, une carte d'adhérent vous sera demandée\nà l'entrée (
	possibilité d'adhérer à l'association à l'entrée de la soirée\, 1€ la\ncar
	te - valable 1 an).\n• Un bar sera assuré sur place.\n• Ouverture des port
	es à 20h\, fin de soirée à 4h. On vous demande de bien\nvouloir quitter le
	 parking avant 5h du matin.\n• La soirée est réservée aux majeurs\, et nos
	 amies les bêtes ne sont\nmalheureusement pas autorisées\, même sur le par
	king.\n• Paiement CB accepté.\n• Vente de vinyles sur place.\nOn espère vo
	us retrouver nombreux pour cette dixième édition des Dub It iYah!\nOne Lov
	e
URL:https://dubagenda.top/event/dub-it-iyah-10-steppadict-all-night-long
GEO:47.1228371;-1.2808726
LOCATION:44330 Mouzillon // Le Fief Du Vignoble - Rue du Chardonnais\, ZA d
	es Quatres Chemins\, La Coudaurière\, Mouzillon\, Nantes\, Loire-Atlantiqu
	e\, Pays de la Loire\, France métropolitaine\, 44330\, France
STATUS:CONFIRMED
CATEGORIES:Nantes,2026,Sound System
X-ALT-DESC;FMTTYPE=text/html:<p>On y est: la dixième édition des Dub It iYa
	h ! Après 3 années d'existence, et une dizaine d’événements organisés, tou
	te l'équipe de l'association Steppaddict Production est heureuse de pouvoi
	r vous proposer cette session, qui marquera également les 15 ans d'activit
	és du Steppaddict Sound System. Pour l'occasion, l'équipe du Steppaddict S
	ound sera au commandes pour une session "all night long". Prépare tes skan
	king shoes, averse de dubplates en prévision !<br>Pour célébrer leurs 15 a
	nnées d'activité, le Steppaddict Sound System réuni ses membres actifs (et
	 peut-être quelques invités surprises) pour animer et sonoriser l'ensemble
	 de la soirée.<br>Dans la tradition des sound system anglais, cet évènemen
	t est une célébration ouverte à tou(te)s. Tout le monde est le/la bienvenu
	(e), à l'exception des personnes ne respectant pas les autres. Autrement d
	it, aucune forme d'agression, de harcèlement, de discrimination ou tout ma
	nque de respect envers autrui ne sera toléré.<br><br>Plus d'infos?<br>• Pr
	ix d'entrée: 8€ pour les premiers billets, 10€ en prévente.<br>• Nos soiré
	es sont des soirées privées, une carte d'adhérent vous sera demandée à l'e
	ntrée (possibilité d'adhérer à l'association à l'entrée de la soirée, 1€ l
	a carte - valable 1 an).<br>• Un bar sera assuré sur place.<br>• Ouverture
	 des portes à 20h, fin de soirée à 4h. On vous demande de bien vouloir qui
	tter le parking avant 5h du matin.<br>• La soirée est réservée aux majeurs
	, et nos amies les bêtes ne sont malheureusement pas autorisées, même sur 
	le parking.<br>• Paiement CB accepté.<br>• Vente de vinyles sur place.<br>
	On espère vous retrouver nombreux pour cette dixième édition des Dub It iY
	ah!<br>One Love</p>
BEGIN:VALARM
ACTION:DISPLAY
DESCRIPTION:Dub It Iyah #10 // Steppadict All Night Long
TRIGGER:-PT1H
END:VALARM
END:VEVENT
END:VCALENDAR
