BEGIN:VCALENDAR
VERSION:2.0
CALSCALE:GREGORIAN
PRODID:adamgibbons/ics
METHOD:PUBLISH
X-PUBLISHED-TTL:PT1H
BEGIN:VEVENT
UID:200@dubagenda.top
SUMMARY:Dub In Town // Sub Rustik meet Para Pacem
DTSTAMP:20260425T153046Z
DTSTART:20260605T163000Z
DTEND:20260605T220000Z
URL:https://dubagenda.top/event/dub-in-town-sub-rustik-meet-para-pacem
GEO:47.3390834;-1.1084899
LOCATION:49530 Bouzillé - Bouzillé\, Orée d'Anjou\, Cholet\, Maine-et-Loire
	\, Pays de la Loire\, France métropolitaine\, 49530\, France
STATUS:CONFIRMED
CATEGORIES:49,2026,Sound System,fête de la musique
BEGIN:VALARM
ACTION:DISPLAY
DESCRIPTION:Dub In Town // Sub Rustik meet Para Pacem
TRIGGER:-PT1H
END:VALARM
END:VEVENT
END:VCALENDAR
