BEGIN:VCALENDAR
VERSION:2.0
CALSCALE:GREGORIAN
PRODID:adamgibbons/ics
METHOD:PUBLISH
X-PUBLISHED-TTL:PT1H
BEGIN:VEVENT
UID:94@dubagenda.top
SUMMARY:Dub In Town #25 // Corpo Dub Sound meets Roots Tonality
DTSTAMP:20260421T135539Z
DTSTART:20251227T190000Z
DTEND:20251228T000000Z
DESCRIPTION:Notre traditionnelle soirée Dub de fin d'année aura lieu le sam
	edi 27 décembre\non vous attend très nombreux pour mettre le feu dans la s
	treet 🔥🔥🔥🔊🔊🔊\nPour cette dernière édition de l'année 2025 CORPO DUB SOUND 
	invite ROOTS\nTONALITY 💪💪\n🔊 2 SCOOPS SESSION 💥\n🕙 20H - 01H : Cinq heures
	 Inna reggae music style 🔥\n🆒 ALL TRIBES WELCOME : Peu importe qui vous êt
	es et d'où vous veniez. WELCOME !\n🆓 ACCES GRATUIT - Pas de billetterie\n📍
	 Lieu : Bar le Dauphin - Fontenay le Comte\nAlors réserve vite ta date et 
	invite tes potes 😉\nBIG UP FAMILY 🫶
URL:https://dubagenda.top/event/dub-in-town-25-corpo-dub-sound-meets-roots-
	tonality
GEO:46.4662489;-0.8040337
LOCATION:85200 Fontenay Le Comte // Bar Le Dauphin - 1\, Rue du Docteur Aud
	é\, Le Château\, Fontenay-le-Comte\, Vendée\, Pays de la Loire\, France mé
	tropolitaine\, 85200\, France
STATUS:CONFIRMED
CATEGORIES:2025,85,Sound System
X-ALT-DESC;FMTTYPE=text/html:<p>Notre traditionnelle soirée Dub de fin d'an
	née aura lieu le samedi 27 décembre on vous attend très nombreux pour mett
	re le feu dans la street 🔥🔥🔥🔊🔊🔊<br>Pour cette dernière édition de l'année 
	2025 CORPO DUB SOUND invite ROOTS TONALITY 💪💪<br>🔊 2 SCOOPS SESSION 💥<br>🕙
	 20H - 01H : Cinq heures Inna reggae music style 🔥<br>🆒 ALL TRIBES WELCOME
	 : Peu importe qui vous êtes et d'où vous veniez. WELCOME !<br>🆓 ACCES GRA
	TUIT - Pas de billetterie<br>📍 Lieu : Bar le Dauphin - Fontenay le Comte<b
	r>Alors réserve vite ta date et invite tes potes 😉<br>BIG UP FAMILY 🫶</p>
BEGIN:VALARM
ACTION:DISPLAY
DESCRIPTION:Dub In Town #25 // Corpo Dub Sound meets Roots Tonality
TRIGGER:-PT1H
END:VALARM
END:VEVENT
END:VCALENDAR
