BEGIN:VCALENDAR
VERSION:2.0
CALSCALE:GREGORIAN
PRODID:adamgibbons/ics
METHOD:PUBLISH
X-PUBLISHED-TTL:PT1H
BEGIN:VEVENT
UID:52@dubagenda.top
SUMMARY:Dub In Town #24 // Corpo Dub Sound
DTSTAMP:20260421T151840Z
DTSTART:20251004T180000Z
DTEND:20251004T230000Z
DESCRIPTION:Corpo Dub Sound revient vous jouer ses meilleurs sélections en 
	mode street party\npour une 24ème édition\, au Bar le Dauphin !\nCorpo Dub
	 Sound est un collectif actif depuis 2010 dans le sud-Vendée. D'abord\npro
	moteur (Dub2nights\, Flash It Sessions)\, la construction d'un système de\
	nsonorisation artisanale s'est rapidement lancée. Versatile dans ses sélec
	tions\,\nCorpo Dub Sound promeut l'unité et le partage dans la danse !\nDa
	nisi Hi-Fi (FR) – Sound System\nCollectif niortais\, anciennement Dub In S
	èvres\, Danisi Hi-Fi réunit deux\npassionnés de Reggae\, de Dub et de Soun
	d Systems traditionnels… Emma et Quentin\nsont amateurs de vinyles qu’ils 
	collectionnent et qu’ils aiment à partager\nautour d’eux\, tout en sélecta
	nt des Dubplates percutants pour enflammer le\ndancefloor !\n🔊 2 SCOOPS SE
	SSION 💥\n🕙 20H - 01H : Cinq heures Inna reggae music style 🔥\n🆒 ALL TRIBES
	 WELCOME : Peu importe qui vous êtes et d'où vous veniez. WELCOME !\n🆓 ACC
	ES GRATUIT - Pas de billetterie\n📍 Lieu : Bar le Dauphin - Fontenay le Com
	te\nAlors réserve vite ta date et invite tes potes 😉\nBIG UP FAMILY 🫶
URL:https://dubagenda.top/event/dub-in-town-24-corpo-dub-sound
GEO:46.4662489;-0.8040337
LOCATION:85200 Fontenay Le Comte // Bar Le Dauphin - 1\, Rue du Docteur Aud
	é\, Le Château\, Fontenay-le-Comte\, Vendée\, Pays de la Loire\, France mé
	tropolitaine\, 85200\, France
STATUS:CONFIRMED
CATEGORIES:2025,85,Sound System
X-ALT-DESC;FMTTYPE=text/html:<p>Corpo Dub Sound revient vous jouer ses meil
	leurs sélections en mode street party pour une 24ème édition, au Bar le Da
	uphin !<br>Corpo Dub Sound est un collectif actif depuis 2010 dans le sud-
	Vendée. D'abord promoteur (Dub2nights, Flash It Sessions), la construction
	 d'un système de sonorisation artisanale s'est rapidement lancée. Versatil
	e dans ses sélections, Corpo Dub Sound promeut l'unité et le partage dans 
	la danse !<br>Danisi Hi-Fi (FR) – Sound System<br>Collectif niortais, anci
	ennement Dub In Sèvres, Danisi Hi-Fi réunit deux passionnés de Reggae, de 
	Dub et de Sound Systems traditionnels… Emma et Quentin sont amateurs de vi
	nyles qu’ils collectionnent et qu’ils aiment à partager autour d’eux, tout
	 en sélectant des Dubplates percutants pour enflammer le dancefloor !<br>🔊
	 2 SCOOPS SESSION 💥<br>🕙 20H - 01H : Cinq heures Inna reggae music style 🔥
	<br>🆒 ALL TRIBES WELCOME : Peu importe qui vous êtes et d'où vous veniez. 
	WELCOME !<br>🆓 ACCES GRATUIT - Pas de billetterie<br>📍 Lieu : Bar le Dauph
	in - Fontenay le Comte<br>Alors réserve vite ta date et invite tes potes 😉
	<br>BIG UP FAMILY 🫶</p>
BEGIN:VALARM
ACTION:DISPLAY
DESCRIPTION:Dub In Town #24 // Corpo Dub Sound
TRIGGER:-PT1H
END:VALARM
END:VEVENT
END:VCALENDAR
