BEGIN:VCALENDAR
VERSION:2.0
CALSCALE:GREGORIAN
PRODID:adamgibbons/ics
METHOD:PUBLISH
X-PUBLISHED-TTL:PT1H
BEGIN:VEVENT
UID:124@dubagenda.top
SUMMARY:Dub In The Temple // Eskifaia & Friends
DTSTAMP:20260421T122116Z
DTSTART:20260425T130000Z
DTEND:20260425T230000Z
DESCRIPTION:Dub in the Temple est un concert reggae dub sound system organi
	sé à\nSainte-Néomaye (79)\, dans les Deux-Sèvres\, par Eskifaia Sound Syst
	em\, avec le\nsoutien de la mairie.\nCet événement met à l’honneur la cult
	ure sound system roots\, une culture vivante\noù le son est central\, les 
	basses parlent et le public fait partie intégrante de\nl’expérience.\n\nPe
	nsé comme une montée progressive\, Dub in the Temple propose une journée\n
	complète : rencontre\, partage\, vibrations en extérieur\, puis pleine pui
	ssance en\nintérieur jusqu’à la nuit.\nProgramme du concert reggae dub sou
	nd system à Sainte-Néomaye\nAprès-midi reggae dub sound system extérieur –
	 Lion’s Crown Sound System\n\nLa journée débute à 14h00 avec un temps de r
	encontre avec l’équipe.\nC’est un moment d’échange\, pour poser l’ambiance
	\, se retrouver et préparer la\nsuite.\n\nÀ partir de 15h00\, le sound sys
	tem reggae dub extérieur démarre avec Lion’s\nCrown Sound System.\nUne ses
	sion en plein air dédiée aux fondations reggae dub\, idéale pour installer
	\nles vibrations et lancer l’événement dans une atmosphère chaleureuse et\
	ncollective.\nSoirée dub sound system indoor – Eskifaia Sound System\n\nÀ 
	20h00\, le concert reggae dub se poursuit à l’intérieur de la Salle Le Tem
	ple à\nSainte-Néomaye.\nEskifaia Sound System prend alors le contrôle en c
	onfiguration complète\, avec 8\nbasses alignées\, pour une session massive
	.\n\nDu roots foundation au digital early\, jusqu’au steppa\, la soirée es
	t pensée\ncomme une véritable immersion sound system\, où le Temple devien
	t une chambre de\nrésonance portée par les basses jusqu’à la fermeture.\nA
	rtistes du concert reggae dub sound system – Eskifaia Sound System & invit
	és\nSound systems reggae dub\n\nEskifaia Sound System\nLion’s Crown Sound 
	System\nSelectas reggae dub\n\nJahnow\nSimple Man\nQwentiiin\nLion’s Crown
	\nMCs & singers reggae dub\n\nBym\nLittle R\n\nLes artistes interviennent 
	dans un format & friends\, fidèle à l’esprit sound\nsystem : spontané\, vi
	vant\, organique\, avec des connexions naturelles entre\nselectas\, MCs\, 
	singers et public.\nInformations pratiques – concert reggae dub à la Salle
	 Le Temple\nLieu du concert reggae dub à Sainte-Néomaye\n\nSalle Le Temple
	\n2 Rue de la Mairie\, 79260 Sainte-Néomaye\nDate et horaires du concert r
	eggae dub sound system\n\nSamedi 25 avril\n\n14h00 : rencontre avec l’équi
	pe\n15h00 – 20h00 : reggae dub sound system extérieur\n20h00 – 01h00 : soi
	rée dub sound system intérieur
URL:https://dubagenda.top/event/dub-in-the-temple-eskifaia-and-friends
GEO:46.3713211;-0.2637273
LOCATION:79260 Sainte-Néomaye // Le Temple - Rue de la Mairie\, Les Quenoui
	lles\, Devant l'École\, Aiript\, Sainte-Néomaye\, Niort\, Deux-Sèvres\, No
	uvelle-Aquitaine\, France métropolitaine\, 79260\, France
STATUS:CONFIRMED
CATEGORIES:2026,79,Sound System
X-ALT-DESC;FMTTYPE=text/html:<p>Dub in the Temple est un concert reggae dub
	 sound system organisé à Sainte-Néomaye (79), dans les Deux-Sèvres, par Es
	kifaia Sound System, avec le soutien de la mairie.<br>Cet événement met à 
	l’honneur la culture sound system roots, une culture vivante où le son est
	 central, les basses parlent et le public fait partie intégrante de l’expé
	rience.<br><br>Pensé comme une montée progressive, Dub in the Temple propo
	se une journée complète : rencontre, partage, vibrations en extérieur, pui
	s pleine puissance en intérieur jusqu’à la nuit.<br>Programme du concert r
	eggae dub sound system à Sainte-Néomaye<br>Après-midi reggae dub sound sys
	tem extérieur – Lion’s Crown Sound System<br><br>La journée débute à 14h00
	 avec un temps de rencontre avec l’équipe.<br>C’est un moment d’échange, p
	our poser l’ambiance, se retrouver et préparer la suite.<br><br>À partir d
	e 15h00, le sound system reggae dub extérieur démarre avec Lion’s Crown So
	und System.<br>Une session en plein air dédiée aux fondations reggae dub, 
	idéale pour installer les vibrations et lancer l’événement dans une atmosp
	hère chaleureuse et collective.<br>Soirée dub sound system indoor – Eskifa
	ia Sound System<br><br>À 20h00, le concert reggae dub se poursuit à l’inté
	rieur de la Salle Le Temple à Sainte-Néomaye.<br>Eskifaia Sound System pre
	nd alors le contrôle en configuration complète, avec 8 basses alignées, po
	ur une session massive.<br><br>Du roots foundation au digital early, jusqu
	’au steppa, la soirée est pensée comme une véritable immersion sound syste
	m, où le Temple devient une chambre de résonance portée par les basses jus
	qu’à la fermeture.<br>Artistes du concert reggae dub sound system – Eskifa
	ia Sound System &amp; invités<br>Sound systems reggae dub<br><br>Eskifaia 
	Sound System<br>Lion’s Crown Sound System<br>Selectas reggae dub<br><br>Ja
	hnow<br>Simple Man<br>Qwentiiin<br>Lion’s Crown<br>MCs &amp; singers regga
	e dub<br><br>Bym<br>Little R<br><br>Les artistes interviennent dans un for
	mat &amp; friends, fidèle à l’esprit sound system : spontané, vivant, orga
	nique, avec des connexions naturelles entre selectas, MCs, singers et publ
	ic.<br>Informations pratiques – concert reggae dub à la Salle Le Temple<br
	>Lieu du concert reggae dub à Sainte-Néomaye<br><br>Salle Le Temple<br>2 R
	ue de la Mairie, 79260 Sainte-Néomaye<br>Date et horaires du concert regga
	e dub sound system<br><br>Samedi 25 avril<br><br>14h00 : rencontre avec l’
	équipe<br>15h00 – 20h00 : reggae dub sound system extérieur<br>20h00 – 01h
	00 : soirée dub sound system intérieur</p>
BEGIN:VALARM
ACTION:DISPLAY
DESCRIPTION:Dub In The Temple // Eskifaia & Friends
TRIGGER:-PT1H
END:VALARM
END:VEVENT
END:VCALENDAR
