BEGIN:VCALENDAR
VERSION:2.0
CALSCALE:GREGORIAN
PRODID:adamgibbons/ics
METHOD:PUBLISH
X-PUBLISHED-TTL:PT1H
BEGIN:VEVENT
UID:48@dubagenda.top
SUMMARY:Dub Impakt #3 - RDH HI-FI / Anima Sound System / L.D.I Sound System
DTSTAMP:20260421T151306Z
DTSTART:20251101T170000Z
DTEND:20251102T020000Z
DESCRIPTION:ATTENTION PLACES LIMITÉES !!\n\n\nLegal Dub Impakt Sound System
	 présente : DUB IMPAKT #3\nPour la troisième fois\, Legal Dub Impakt inves
	tit l'étoile de Jade avec une\nsoirée inoubliable autour de la culture Sou
	nd System. Après la magnifique danse\ndu DUB IMPAKT #1 et #2\, retrouvez n
	ous avec nos amis du ANIMA Sound System ainsi\nque RDH HI-FI pour une expé
	rience encore plus grandiose !\n\n\n🔥 Préparez-vous pour :\nDes basses pui
	ssantes avec 6 et 8 basses par Sound System.\nDes sonos artisanales pour u
	ne immersion sonore.\nUne ambiance conviviale\, des sourires et de la bonn
	e humeur!\n\n\n🔊 Au programme :\nRDH HI-FI\nANIMA SOUND SYSTEM - 8 BASS\nL
	EGAL DUB IMPAKT SOUND SYSTEM - 6 BASS\n\n\n🎟️ Tarifs :\nEn prévente : 10€\n
	👉\nhttps://www.helloasso.com/associations/legal-dub-impakt/evenements/dub-
	impakt-3-l-d-i-sound-system-anima-sound-system-rdh-hi-fi\n[https://www.hel
	loasso.com/associations/legal-dub-impakt/evenements/dub-impakt-3-l-d-i-sou
	nd-system-anima-sound-system-rdh-hi-fi]\nSur place : 12€\n👉 Scan des place
	s à l'entrée.\n👉 L'organisation se réserve le droit de fouiller les sacs o
	u de refuser des\npersonnes à comportements à risque.\n\n\n⏱️ Horaires :\nD
	e 18h à 03h00\n📍 Lieu :\nSalle de l'Étoile de Jade\, Saint Brévin Les Pins
	 (44250)\nParking VL/PL disponible\n\n\n🍻 À découvrir :\nBar avec bières\,
	 vins\, softs...\nStand Merchandising\n👉 CB acceptée!\n\n\n🧡 Bon à savoir 
	:\n🤝 Auto-contrôle et respect mutuel exigés\, chaque personne ici est un m
	embre\nprécieux de notre famille musicale. Traitons chacun avec le respect
	 et la\ngentillesse. Prenez soin de vous et des autres. Si vous voyez quel
	qu'un dans le\nbesoin\, n'hésitez pas à contacter notre équipe.\nNotre équ
	ipe se réserve le droit d'intervenir en cas de comportements à risque.\n\n
	\nA bientôt inna di dance!!
URL:https://dubagenda.top/event/dub-impakt-3
GEO:47.236389;-2.156082
LOCATION:44250 Saint Brevin les Pins // Salle Étoile de Jade - 47\,236406\,
	 -2\,156081
STATUS:CONFIRMED
CATEGORIES:2025,Nantes,Sound System
X-ALT-DESC;FMTTYPE=text/html:<p>ATTENTION PLACES LIMITÉES !!</p><p><br>Lega
	l Dub Impakt Sound System présente : DUB IMPAKT #3<br>Pour la troisième fo
	is, Legal Dub Impakt investit l'étoile de Jade avec une soirée inoubliable
	 autour de la culture Sound System. Après la magnifique danse du DUB IMPAK
	T #1 et #2, retrouvez nous avec nos amis du ANIMA Sound System ainsi que R
	DH HI-FI pour une expérience encore plus grandiose !</p><p><br>🔥 Préparez-
	vous pour :<br>Des basses puissantes avec 6 et 8 basses par Sound System.<
	br>Des sonos artisanales pour une immersion sonore.<br>Une ambiance conviv
	iale, des sourires et de la bonne humeur!</p><p><br>🔊 Au programme :<br>RD
	H HI-FI<br>ANIMA SOUND SYSTEM - 8 BASS<br>LEGAL DUB IMPAKT SOUND SYSTEM - 
	6 BASS<br><br><br>🎟️ Tarifs :<br>En prévente : 10€<br>👉 <a target="_blank" 
	href="https://www.helloasso.com/associations/legal-dub-impakt/evenements/d
	ub-impakt-3-l-d-i-sound-system-anima-sound-system-rdh-hi-fi">https://www.h
	elloasso.com/associations/legal-dub-impakt/evenements/dub-impakt-3-l-d-i-s
	ound-system-anima-sound-system-rdh-hi-fi</a><br>Sur place : 12€<br>👉 Scan 
	des places à l'entrée.<br>👉 L'organisation se réserve le droit de fouiller
	 les sacs ou de refuser des personnes à comportements à risque.</p><p><br>
	⏱️ Horaires :<br>De 18h à 03h00<br>📍 Lieu :<br>Salle de l'Étoile de Jade, S
	aint Brévin Les Pins (44250)<br>Parking VL/PL disponible</p><p><br>🍻 À déc
	ouvrir :<br>Bar avec bières, vins, softs...<br>Stand Merchandising<br>👉 CB
	 acceptée!</p><p><br>🧡 Bon à savoir :<br>🤝 Auto-contrôle et respect mutuel
	 exigés, chaque personne ici est un membre précieux de notre famille music
	ale. Traitons chacun avec le respect et la gentillesse. Prenez soin de vou
	s et des autres. Si vous voyez quelqu'un dans le besoin, n'hésitez pas à c
	ontacter notre équipe.<br>Notre équipe se réserve le droit d'intervenir en
	 cas de comportements à risque.</p><p><br>A bientôt inna di dance!! </p>
BEGIN:VALARM
ACTION:DISPLAY
DESCRIPTION:Dub Impakt #3 - RDH HI-FI / Anima Sound System / L.D.I Sound Sy
	stem
TRIGGER:-PT1H
END:VALARM
END:VEVENT
END:VCALENDAR
