BEGIN:VCALENDAR
VERSION:2.0
CALSCALE:GREGORIAN
PRODID:adamgibbons/ics
METHOD:PUBLISH
X-PUBLISHED-TTL:PT1H
BEGIN:VEVENT
UID:17@dubagenda.top
SUMMARY:Yous presents Dub Guinguette de la Pierre-Percée
DTSTAMP:20260421T151405Z
DTSTART:20250807T150000Z
DTEND:20250807T200000Z
DESCRIPTION:Jeudi prochain c’est notre tour d’assurer la danse à la @guingu
	ettepierrepercee\n!💥\n\nOn aura le plaisir de partager la session avec @az
	ef_selector !!\n\n(Quelques surprises en prévisions…)\n\n🗓️ Jeudi 7 Août 20
	25\n\n🕦 17h - 22h\n\n📍44450 Divatte-sur-Loire\n\n💶 GRATUIT\n\nBig up @yous
	_shimasen pour l’organisation et la connexion 🫶
URL:https://dubagenda.top/event/dub-guinguette-de-la-pierre-percee
GEO:47.2864344;-1.3813622
LOCATION:44450 Divatte-Sur-Loire // Guinguette Pierre Percée - Les Levées\,
	 La Chapelle-Basse-Mer\, Divatte-sur-Loire\, Nantes\, Loire-Atlantique\, P
	ays de la Loire\, France métropolitaine\, 44450\, France
STATUS:CONFIRMED
CATEGORIES:2025,Nantes,Sound System
X-ALT-DESC;FMTTYPE=text/html:<p>Jeudi prochain c’est notre tour d’assurer l
	a danse à la @guinguettepierrepercee !💥</p><p>On aura le plaisir de partag
	er la session avec @azef_selector !! </p><p>(Quelques surprises en prévisi
	ons…)</p><p>🗓️ Jeudi 7 Août 2025</p><p>🕦 17h - 22h</p><p>📍44450 Divatte-sur
	-Loire</p><p>💶 GRATUIT</p><p>Big up @yous_shimasen pour l’organisation et 
	la connexion 🫶</p>
BEGIN:VALARM
ACTION:DISPLAY
DESCRIPTION:Yous presents Dub Guinguette de la Pierre-Percée
TRIGGER:-PT1H
END:VALARM
END:VEVENT
END:VCALENDAR
