BEGIN:VCALENDAR
VERSION:2.0
CALSCALE:GREGORIAN
PRODID:adamgibbons/ics
METHOD:PUBLISH
X-PUBLISHED-TTL:PT1H
BEGIN:VEVENT
UID:26@dubagenda.top
SUMMARY:Dub Guinguette by Purring Sound System
DTSTAMP:20260421T153227Z
DTSTART:20250829T150000Z
DTEND:20250829T203000Z
DESCRIPTION:✨ Guinguette « À la Bonheur » ! ✨\n📆 Le 29 août 2025\n\nPrépare
	-toi pour une session à faire bouger les quais !\n\nOn invite deux crews l
	ocaux sur notre SONO @purring_sound_system\n[https://www.instagram.com/pur
	ring_sound_system/] :\n👉 @groundzags [https://www.instagram.com/groundzags
	/]\n👉 Evi-Wub\n\nLe tout dans un lieu qui s’y prête @alabonheurstphilbert\
	n[https://www.instagram.com/alabonheurstphilbert/] \, donc « à la bonheur 
	» seras\naux couleurs de la culture Reggae Music avec un Sound System diff
	usant ses\nmessages et son énergie.\n\nVenez danser\, vibrer et partager\,
	 dans le respect de chacun et du lieu.\n\nBE THERE\n\nPurring Crew\n\n📍 Gu
	inguette À la Bonheur – Saint-Philbert-de-Grand-Lieu\n🎧 Guest : @groundzag
	s [https://www.instagram.com/groundzags/] x\n@wubbadub_soundsystem [https:
	//www.instagram.com/wubbadub_soundsystem/] x\n@dub_evidence_sound_system\n
	[https://www.instagram.com/dub_evidence_sound_system/]\n🍻 Buvette & petite
	 bouffe sur place\n🎟️ Entrée libre – viens comme t’es… mais viens danser !\
	n\n🎨 illustration : @potit.lu [https://www.instagram.com/potit.lu/] 👊
URL:https://dubagenda.top/event/dub-guinguette-by-purring-sound-system
GEO:47.0414976;-1.6386454
LOCATION:44310 St Philbert de Grand Lieu - Avenue de Nantes\, La Chaussée\,
	 Saint-Philbert-de-Grand-Lieu\, Nantes\, Loire-Atlantique\, Pays de la Loi
	re\, France métropolitaine\, 44310\, France
STATUS:CONFIRMED
CATEGORIES:2025,Nantes,Sound System
X-ALT-DESC;FMTTYPE=text/html:<p>✨ Guinguette « À la Bonheur » ! ✨<br>📆 Le 2
	9 août 2025<br><br>Prépare-toi pour une session à faire bouger les quais !
	<br><br>On invite deux crews locaux sur notre SONO <a target="_blank" href
	="https://www.instagram.com/purring_sound_system/">@purring_sound_system</
	a> :<br>👉 <a target="_blank" href="https://www.instagram.com/groundzags/">
	@groundzags</a><br>👉 Evi-Wub<br><br>Le tout dans un lieu qui s’y prête <a 
	target="_blank" href="https://www.instagram.com/alabonheurstphilbert/">@al
	abonheurstphilbert</a> , donc «&nbsp;à la bonheur&nbsp;» seras aux couleur
	s de la culture Reggae Music avec un Sound System diffusant ses messages e
	t son énergie. <br><br>Venez danser, vibrer et partager, dans le respect d
	e chacun et du lieu.<br><br>BE THERE <br><br>Purring Crew <br><br>📍 Guingu
	ette À la Bonheur – Saint-Philbert-de-Grand-Lieu<br>🎧 Guest : <a target="_
	blank" href="https://www.instagram.com/groundzags/">@groundzags</a> x <a t
	arget="_blank" href="https://www.instagram.com/wubbadub_soundsystem/">@wub
	badub_soundsystem</a> x <a target="_blank" href="https://www.instagram.com
	/dub_evidence_sound_system/">@dub_evidence_sound_system</a><br>🍻 Buvette &
	amp; petite bouffe sur place<br>🎟️ Entrée libre – viens comme t’es… mais vi
	ens danser !<br><br>🎨 illustration : <a target="_blank" href="https://www.
	instagram.com/potit.lu/">@potit.lu</a> 👊</p>
BEGIN:VALARM
ACTION:DISPLAY
DESCRIPTION:Dub Guinguette by Purring Sound System
TRIGGER:-PT1H
END:VALARM
END:VEVENT
END:VCALENDAR
