BEGIN:VCALENDAR
VERSION:2.0
CALSCALE:GREGORIAN
PRODID:adamgibbons/ics
METHOD:PUBLISH
X-PUBLISHED-TTL:PT1H
BEGIN:VEVENT
UID:73@dubagenda.top
SUMMARY:Dub Evolution #4
DTSTAMP:20260421T132337Z
DTSTART:20251031T200000Z
DTEND:20251101T000000Z
DESCRIPTION:🔶️ DUB EVOLUTION #4 🔶️\nRestauration sur place\n*****************
	*****************************\n🔸️ SixFootStix (🌏 Nouvelle Zélande)\nAlias S
	TIX est un sélecteur / DJ originaire d’Aotearoa (Nouvelle-Zélande 🇳🇿)\net i
	nstallé aujourd’hui en Bretagne.\nIl a acquis son expérience et ses connai
	ssances au contact de la culture sound\nsystem du Royaume-Uni\, où il a vé
	cu pendant plusieurs années.\nDe retour en Aotearoa\, il est devenu promot
	eur et organisateur d’événements pour\ndes artistes locaux et internationa
	ux.\nAttendez-vous à un voyage musical à travers l’évolution du dub\, des 
	quatre coins\ndu monde et au-delà des océans.\nRoots & Culture Education!\
	n*****************************************************\n🔸️Erev Hi-Fi (🌏 Nan
	tes/Nivillac)\nNé d'une passion commune pour le dub et les cultures sound 
	system\, Erev Hi-Fi\ncultive depuis deux ans des danses unique et activist
	e grâce a leur sound\nsystème.\nEntre basses profondes\, dub méditatif et 
	message conscients\, Erev Hi-Fi vous\npartagera le Vendredi\, une session 
	au Dub Evolution.\nLove & Unity!\n----------------------------------------
	-------\n❌ chiens refusés (intérieur\, extérieur et alentours du bar)\n---
	--------------------------------------------\n▬ Le Cycrien's en résumé ▬\n
	• Bar authentique et café-concert\n• 🕑 Horaires : ouvert du jeudi au diman
	che inclus\n• Boissons\, snack\, jeux d'ambiance\, babyfoot\, billard\, pa
	lets\, molkki\, revues à\nconsulter sur place\, livres-échange\, animation
	s diverses...\nAdresse : bourg de Saint-Cry 56130 Nivillac
URL:https://dubagenda.top/event/dub-evolution-4
GEO:47.5621133;-2.2180699
LOCATION:56130 Nivillac // Bar Le Cyriens - Nivillac\, Vannes\, Morbihan\, 
	Bretagne\, France métropolitaine\, 56130\, France
STATUS:CONFIRMED
CATEGORIES:2025,56,Sound System
X-ALT-DESC;FMTTYPE=text/html:<p>🔶️ DUB EVOLUTION #4 🔶️<br>Restauration sur pl
	ace<br>**********************************************<br>🔸️ SixFootStix (🌏 
	Nouvelle Zélande)<br>Alias STIX est un sélecteur / DJ originaire d’Aotearo
	a (Nouvelle-Zélande 🇳🇿) et installé aujourd’hui en Bretagne.<br>Il a acquis
	 son expérience et ses connaissances au contact de la culture sound system
	 du Royaume-Uni, où il a vécu pendant plusieurs années.<br>De retour en Ao
	tearoa, il est devenu promoteur et organisateur d’événements pour des arti
	stes locaux et internationaux.<br>Attendez-vous à un voyage musical à trav
	ers l’évolution du dub, des quatre coins du monde et au-delà des océans.<b
	r>Roots &amp; Culture Education!<br>**************************************
	***************<br>🔸️Erev Hi-Fi (🌏 Nantes/Nivillac)<br>Né d'une passion com
	mune pour le dub et les cultures sound system, Erev Hi-Fi cultive depuis d
	eux ans des danses unique et activiste grâce a leur sound système.<br>Entr
	e basses profondes, dub méditatif et message conscients, Erev Hi-Fi vous p
	artagera le Vendredi, une session au Dub Evolution.<br>Love &amp; Unity!<b
	r>-----------------------------------------------<br>❌ chiens refusés (int
	érieur, extérieur et alentours du bar)<br>--------------------------------
	---------------<br>▬ Le Cycrien's en résumé ▬<br>• Bar authentique et café
	-concert<br>• 🕑 Horaires : ouvert du jeudi au dimanche inclus<br>• Boisson
	s, snack, jeux d'ambiance, babyfoot, billard, palets, molkki, revues à con
	sulter sur place, livres-échange, animations diverses...<br>Adresse : bour
	g de Saint-Cry 56130 Nivillac</p>
BEGIN:VALARM
ACTION:DISPLAY
DESCRIPTION:Dub Evolution #4
TRIGGER:-PT1H
END:VALARM
END:VEVENT
END:VCALENDAR
