BEGIN:VCALENDAR
VERSION:2.0
CALSCALE:GREGORIAN
PRODID:adamgibbons/ics
METHOD:PUBLISH
X-PUBLISHED-TTL:PT1H
BEGIN:VEVENT
UID:112@dubagenda.top
SUMMARY:Dub Encounters #11 // Dub Sheperds Weeding Dub
DTSTAMP:20260421T132829Z
DTSTART:20260328T180000Z
DTEND:20260329T010000Z
URL:https://dubagenda.top/event/dub-encounters-11-dub-sheperds-weeding-dub
GEO:46.814433;-0.9869235
LOCATION:85500 Saint Paul En Pareds // La Grange Du Charfait - D 23\, La Tu
	ilerie\, Saint-Paul-en-Pareds\, La Roche-sur-Yon\, Vendée\, Pays de la Loi
	re\, France métropolitaine\, 85510\, France
STATUS:CONFIRMED
CATEGORIES:2026,85,Sound System
BEGIN:VALARM
ACTION:DISPLAY
DESCRIPTION:Dub Encounters #11 // Dub Sheperds Weeding Dub
TRIGGER:-PT1H
END:VALARM
END:VEVENT
END:VCALENDAR
