BEGIN:VCALENDAR
VERSION:2.0
CALSCALE:GREGORIAN
PRODID:adamgibbons/ics
METHOD:PUBLISH
X-PUBLISHED-TTL:PT1H
BEGIN:VEVENT
UID:189@dubagenda.top
SUMMARY:Dub Day #1 // STEPPADDICT meets YOUTH COLLECTIVE meets DUB LIVITY S
	OUND SYSTEM feat. LITTLE R
DTSTAMP:20260421T135557Z
DTSTART:20260507T200000Z
DTEND:20260508T013000Z
DESCRIPTION:L'Association Rimshot présente :\nDUB DAY NANTES #1\nJeudi 7 ma
	i 2026 (Veil de jour férié) de 22h à 3h30 à DOSES\nSTEPPADDICT meets YOUTH
	 COLLECTIVE meets DUB LIVITY SOUND SYSTEM feat. LITTLE R\n100% Jah Music s
	ession\n3 (Double) Bass session\nTarif unique 10€\n(Cela représente la seu
	le rémunération des artistes)\nCapacité limitée. Reservation conseillée
URL:https://dubagenda.top/event/dub-day-1-steppaddict-meets-youth-collectiv
	e-meets-dub-livity-sound-system-feat-little-r
GEO:47.2022774;-1.5726563
LOCATION:44200 Nantes // Doses - Quai des Antilles\, Sainte-Anne - Zone por
	tuaire\, Île de Nantes\, Nantes\, Loire-Atlantique\, Pays de la Loire\, Fr
	ance métropolitaine\, 44003\, France
STATUS:CONFIRMED
CATEGORIES:Nantes,2026,Sound System
X-ALT-DESC;FMTTYPE=text/html:<p>L'Association Rimshot présente :<br>DUB DAY
	 NANTES #1<br>Jeudi 7 mai 2026 (Veil de jour férié) de 22h à 3h30 à DOSES<
	br>STEPPADDICT meets YOUTH COLLECTIVE meets DUB LIVITY SOUND SYSTEM feat. 
	LITTLE R<br>100% Jah Music session<br>3 (Double) Bass session<br>Tarif uni
	que 10€<br>(Cela représente la seule rémunération des artistes)<br>Capacit
	é limitée. Reservation conseillée</p>
BEGIN:VALARM
ACTION:DISPLAY
DESCRIPTION:Dub Day #1 // STEPPADDICT meets YOUTH COLLECTIVE meets DUB LIVI
	TY SOUND SYSTEM feat. LITTLE R
TRIGGER:-PT1H
END:VALARM
END:VEVENT
END:VCALENDAR
