BEGIN:VCALENDAR
VERSION:2.0
CALSCALE:GREGORIAN
PRODID:adamgibbons/ics
METHOD:PUBLISH
X-PUBLISHED-TTL:PT1H
BEGIN:VEVENT
UID:5@dubagenda.top
SUMMARY:DUB CAMP SUMMER END PARTY #2
DTSTAMP:20260421T153205Z
DTSTART:20250926T190000Z
DTEND:20250927T020000Z
DESCRIPTION:Dub Camp Summer End Party  \nVendredi 26 septembre 2025 \n📍La C
	arrière à St Herblain (près de Nantes) \n \nAprès un été intense\, on prol
	onge les good vibes avec une grosse session de\nclôture à ne pas manquer !
	 Deux salles\, deux sound systems\, une nuit de pur dub\npour célébrer ens
	emble la fin de saison 🎶🌿 \n💥 GRANDE SALLE – BIG VIBES & HEAVY BASS \nMELO
	DUB SOUND SYSTEM & HIGH-T – Full sound 12 basses pour la 1ère fois !  \nMa
	kaya ft. Bonnie Blazer – Crucial Dub UK outta Birmingham \n10.000 Lions – 
	Indian-flavoured Roots to Steppas  \n\n🔊 PETITE SALLE – ROOTS ATTITUDE & I
	NTIMITÉ \nRUFF A DUB SOUND SYSTEM – 4 basses et déjà une solide réputation
	 dans la région\n! \n5 Tons of Dub – 100% Dubplates avec Hitman & Fiza\, T
	eacha Tom\, Zaï and lan\nGeneral \n⚠️ Prépare-toi à une nuit 100% sound sys
	tem culture 🔊 \n🎟️ Infos & billetterie dubcampfestival.com/agenda\n[http://
	dubcampfestival.com/agenda]  \n______________________________ \nPORTES : 2
	1H00 / FIN DU SON : 4h
URL:https://dubagenda.top/event/dub-camp-summer-end-party-2
GEO:47.210735;-1.6341784
LOCATION:44800 Saint-Herblain // La Carrière  - Pontpierre\, Saint-Herblain
	\, Nantes\, Loire-Atlantique\, Pays de la Loire\, France métropolitaine\, 
	44800\, France
STATUS:CONFIRMED
CATEGORIES:2025,Nantes,GetUp!,Sound System
X-ALT-DESC;FMTTYPE=text/html:<p>Dub Camp Summer End Party&nbsp;&nbsp;<br>Ve
	ndredi 26 septembre 2025&nbsp;<br>📍La Carrière à St Herblain (près de Nant
	es)&nbsp;<br>&nbsp;<br>Après un été intense, on prolonge les good vibes av
	ec une grosse session de clôture à ne pas manquer ! Deux salles, deux soun
	d systems, une nuit de pur dub pour célébrer ensemble la fin de saison 🎶🌿&
	nbsp;<br>💥 GRANDE SALLE – BIG VIBES &amp; HEAVY BASS&nbsp;<br>MELODUB SOUN
	D SYSTEM &amp; HIGH-T – Full sound 12 basses pour la 1ère fois !&nbsp;&nbs
	p;<br>Makaya ft. Bonnie Blazer – Crucial Dub UK outta Birmingham&nbsp;<br>
	10.000 Lions – Indian-flavoured Roots to Steppas&nbsp;&nbsp;</p><p>🔊 PETIT
	E SALLE – ROOTS ATTITUDE &amp; INTIMITÉ&nbsp;<br>RUFF A DUB SOUND SYSTEM –
	 4 basses et déjà une solide réputation dans la région !&nbsp;<br>5 Tons o
	f Dub – 100% Dubplates avec Hitman &amp; Fiza, Teacha Tom, Zaï and lan Gen
	eral&nbsp;<br>⚠️ Prépare-toi à une nuit 100% sound system culture 🔊&nbsp;<b
	r>🎟️ Infos &amp; billetterie <a target="_blank" href="http://dubcampfestiva
	l.com/agenda">dubcampfestival.com/agenda</a>&nbsp;&nbsp;<br>______________
	________________&nbsp;<br>PORTES : 21H00 / FIN DU SON : 4h</p>
BEGIN:VALARM
ACTION:DISPLAY
DESCRIPTION:DUB CAMP SUMMER END PARTY #2
TRIGGER:-PT1H
END:VALARM
END:VEVENT
END:VCALENDAR
