BEGIN:VCALENDAR
VERSION:2.0
CALSCALE:GREGORIAN
PRODID:adamgibbons/ics
METHOD:PUBLISH
X-PUBLISHED-TTL:PT1H
BEGIN:VEVENT
UID:175@dubagenda.top
SUMMARY:Dub Camp Festival 2026
DTSTAMP:20260421T153643Z
DTSTART:20260710T150000Z
DTEND:20260712T000000Z
DESCRIPTION:Le Dub Camp revient pour une 11ème édition les 10\, 11 et 12 ju
	illet 2026 sur les\nbords du Lac de Vioreau à Joué-sur-Erdre pour 3 jours 
	exceptionnels près de\nNantes !
URL:https://dubagenda.top/event/dub-camp-festival-2026
GEO:47.5107084;-1.4194068
LOCATION:44440 Joué-sur-Erdre // Lac de Vioreau - Joué-sur-Erdre\, Châteaub
	riant-Ancenis\, Loire-Atlantique\, Pays de la Loire\, France métropolitain
	e\, 44440\, France
STATUS:CONFIRMED
CATEGORIES:Festival,Nantes,2026,Sound System
X-ALT-DESC;FMTTYPE=text/html:<p>Le Dub Camp revient pour une 11ème édition 
	les 10, 11 et 12 juillet 2026 sur les bords du Lac de Vioreau à Joué-sur-E
	rdre pour 3 jours exceptionnels près de Nantes !</p>
BEGIN:VALARM
ACTION:DISPLAY
DESCRIPTION:Dub Camp Festival 2026
TRIGGER:-PT1H
END:VALARM
END:VEVENT
END:VCALENDAR
