BEGIN:VCALENDAR
VERSION:2.0
CALSCALE:GREGORIAN
PRODID:adamgibbons/ics
METHOD:PUBLISH
X-PUBLISHED-TTL:PT1H
BEGIN:VEVENT
UID:105@dubagenda.top
SUMMARY:Dub Basement // Propaganda Sound System
DTSTAMP:20260421T151353Z
DTSTART:20260123T200000Z
DTEND:20260124T040000Z
DESCRIPTION:⚡️ DUB BASEMENT ⚡️\n\n- 23 & 24 janvier prochains\n\n- - HÉRIC (4
	4) - -\n\n- La famille PROPAGANDA est heureuse de vous présenter son proch
	ain événement :\nDUB BASEMENT! 2 soirées sous le signe de la culture sound
	 system reggae/dub\, à\nseulement 15 minutes au nord de Nantes.\n\nSALLE A
	TYPIQUE PETIT PARKING\, COVOITUREZ AU MAX BAR ET FOOD COOL PRICE PRÉVENTE\
	nOBLIGATOIRE\n\n⚠️ CAPACITÉ LIMITÉE ⚠️\n\nARTWORK BY @ewenergik 🙏😍\n\nOn vou
	s en dit plus très vite\, mais ne traînez pas à prendre votre place 🥰
URL:https://dubagenda.top/event/dub-basement-propaganda-sound-system
GEO:47.4144202;-1.6523209
LOCATION:héric - Héric\, Châteaubriant-Ancenis\, Loire-Atlantique\, Pays de
	 la Loire\, France métropolitaine\, 44810\, France
STATUS:CONFIRMED
CATEGORIES:Nantes,2026,Sound System
X-ALT-DESC;FMTTYPE=text/html:<p>⚡️ DUB BASEMENT ⚡️</p><p> - 23 &amp; 24 janvi
	er prochains </p><p>- - HÉRIC (44) - - </p><p>- La famille PROPAGANDA est 
	heureuse de vous présenter son prochain événement : DUB BASEMENT! 2 soirée
	s sous le signe de la culture sound system reggae/dub, à seulement 15 minu
	tes au nord de Nantes.</p><p>SALLE ATYPIQUE PETIT PARKING, COVOITUREZ AU M
	AX BAR ET FOOD COOL PRICE PRÉVENTE OBLIGATOIRE </p><p>⚠️ CAPACITÉ LIMITÉE ⚠️
	 </p><p>ARTWORK BY @ewenergik 🙏😍 </p><p>On vous en dit plus très vite, mai
	s ne traînez pas à prendre votre place 🥰</p>
BEGIN:VALARM
ACTION:DISPLAY
DESCRIPTION:Dub Basement // Propaganda Sound System
TRIGGER:-PT1H
END:VALARM
END:VEVENT
END:VCALENDAR
