BEGIN:VCALENDAR
VERSION:2.0
CALSCALE:GREGORIAN
PRODID:adamgibbons/ics
METHOD:PUBLISH
X-PUBLISHED-TTL:PT1H
BEGIN:VEVENT
UID:70@dubagenda.top
SUMMARY:Dub Az Tek
DTSTAMP:20260421T150636Z
DTSTART:20251115T130000Z
DTEND:20251116T040000Z
DESCRIPTION:🌱 - DUB AZ'TEK - 🌿\n\n▶️ Bloque ton 15 NOVEMBRE 🫡\n\n⏳️14h - 5h\n
	\n📍Le Pallet (44)\n\n🎫 Billetterie en bio 🎫\n\nOrganisé par l'association 
	🤜🏻 EVI-WUB 🤛🏻\n\n💥C'est les copains\, c'est 4 scoops\, une déco de fou pour 
	en prendre plein la\nvue\, c'est DUB AZ'TEK 🌿🤙\n\n👾 Mapping by @dekonexcio
	n\n\nDubisou'<3\n\n\n\nHey les gens 👋🏼 C’est l’heure de vous dévoiler la li
	ne up de la Dub Az’Tek !\n🤩\n\nÇa commence par un créneau de 5H d’open pla
	tine accessible GRATUITEMENT pour que\nTU puisse passer tes plus beaux ske
	uds et tes musiques préférées ! 💃🏻🕺🏻\n\nOn enchaîne sur 5H de lourd dub en e
	xplorant tous les styles 😎\n\nEnsuite accroche ton slip parce que ça part 
	sur 5 set d’1H de différents styles\nde Tek ! 🤪\n\n📍 : Le Pallet (44)\n\n💶
	 : 6€\n\n⏳ : 14H - 5H (GRATUIT de 14H à 19H) Les places sont dispo sur le 
	lien en bio de\nnotre page Insta !\n\nOn se voit là bas ! ✌🏼 La team EVI-W
	UB 🫶🏼
URL:https://dubagenda.top/event/dub-az-tek
GEO:47.139588;-1.3375978
LOCATION:44330 Le Pallet // - Le Pallet\, Nantes\, Loire-Atlantique\, Pays 
	de la Loire\, France métropolitaine\, 44330\, France
STATUS:CONFIRMED
CATEGORIES:2025,Nantes,Sound System
X-ALT-DESC;FMTTYPE=text/html:<p>🌱 - DUB AZ'TEK - 🌿</p><p>▶️ Bloque ton 15 NO
	VEMBRE 🫡</p><p>⏳️14h - 5h</p><p>📍Le Pallet (44)</p><p>🎫 Billetterie en bio 
	🎫</p><p>Organisé par l'association 🤜🏻 EVI-WUB 🤛🏻</p><p>💥C'est les copains, c
	'est 4 scoops, une déco de fou pour en prendre plein la vue, c'est DUB AZ'
	TEK 🌿🤙 </p><p>👾 Mapping by @dekonexcion </p><p>Dubisou'&lt;3</p><p></p><p>
	Hey les gens 👋🏼 C’est l’heure de vous dévoiler la line up de la Dub Az’Tek 
	! 🤩</p><p>Ça commence par un créneau de 5H d’open platine accessible GRATU
	ITEMENT pour que TU puisse passer tes plus beaux skeuds et tes musiques pr
	éférées ! 💃🏻🕺🏻</p><p>On enchaîne sur 5H de lourd dub en explorant tous les s
	tyles 😎</p><p>Ensuite accroche ton slip parce que ça part sur 5 set d’1H d
	e différents styles de Tek ! 🤪</p><p>📍 : Le Pallet (44)</p><p>💶 : 6€</p><p
	>⏳ : 14H - 5H (GRATUIT de 14H à 19H) Les places sont dispo sur le lien en 
	bio de notre page Insta ! </p><p>On se voit là bas ! ✌🏼 La team EVI-WUB 🫶🏼<
	/p>
BEGIN:VALARM
ACTION:DISPLAY
DESCRIPTION:Dub Az Tek
TRIGGER:-PT1H
END:VALARM
END:VEVENT
END:VCALENDAR
