BEGIN:VCALENDAR
VERSION:2.0
CALSCALE:GREGORIAN
PRODID:adamgibbons/ics
METHOD:PUBLISH
X-PUBLISHED-TTL:PT1H
BEGIN:VEVENT
UID:190@dubagenda.top
SUMMARY:Double Trouble #2 // Heartikal Vibes & Infra Corp.
DTSTAMP:20260421T135500Z
DTSTART:20260506T220000Z
DTEND:20260507T040000Z
DESCRIPTION:DOUBLE TROUBLE 2\n\nAprès un premier round mémorable\, on remet
	 ça ! Une deuxième édition qui\ns'annonce encore plus physique entre Dub e
	t Techno. Le concept reste le même :\ndeux mondes\, une onde de choc.\n\n💥
	 🔊 HEARTIKAL VIBES : La profondeur du Dub et l'impact d'une sono artisanal
	e.\n\n🔊 INFRA.CORP : L’énergie brute et les rythmes effrénés de leur invit
	é KEIJU.\nPas de fioritures\, juste l'essentiel : du gros son et une ambia
	nce intimiste\njusqu'à l'aube.\n\n✏️ Énorme big up à @am3.30studio pour les
	 visuels\n\n📍 Le Floride\, Nantes\n\n🕛 00h - 06h\n\n🎟 Lien en bio (Prévent
	es non remboursables)\n\n🔞 Interdit aux -18 ans.\n\n🚫 Zéro tolérance : rac
	isme\, misogynie\, LGBT-phobie.\n\n✨ La fête doit rester un espace sûr pou
	r tout le monde. #nantes #soundsystem\n#dub #technolovers #bassmusic
URL:https://dubagenda.top/event/double-trouble-2-heartikal-vibes-and-infra-
	corp
GEO:47.2005253;-1.5719244
LOCATION:44200 Nantes // Le Floride - Rue de Saint-Domingue\, Sainte-Anne -
	 Zone portuaire\, Île de Nantes\, Nantes\, Loire-Atlantique\, Pays de la L
	oire\, France métropolitaine\, 44003\, France
STATUS:CONFIRMED
CATEGORIES:Nantes,2026,Sound System,Techno
X-ALT-DESC;FMTTYPE=text/html:<p>DOUBLE TROUBLE 2 </p><p>Après un premier ro
	und mémorable, on remet ça ! Une deuxième édition qui s'annonce encore plu
	s physique entre Dub et Techno. Le concept reste le même : deux mondes, un
	e onde de choc. </p><p>💥 🔊 HEARTIKAL VIBES : La profondeur du Dub et l'imp
	act d'une sono artisanale. </p><p>🔊 INFRA.CORP : L’énergie brute et les ry
	thmes effrénés de leur invité KEIJU. Pas de fioritures, juste l'essentiel 
	: du gros son et une ambiance intimiste jusqu'à l'aube. </p><p>✏️ Énorme bi
	g up à @am3.30studio pour les visuels </p><p>📍 Le Floride, Nantes </p><p>🕛
	 00h - 06h </p><p>🎟 Lien en bio (Préventes non remboursables) </p><p>🔞 Int
	erdit aux -18 ans. </p><p>🚫 Zéro tolérance : racisme, misogynie, LGBT-phob
	ie. </p><p>✨ La fête doit rester un espace sûr pour tout le monde. #nantes
	 #soundsystem #dub #technolovers #bassmusic</p>
BEGIN:VALARM
ACTION:DISPLAY
DESCRIPTION:Double Trouble #2 // Heartikal Vibes & Infra Corp.
TRIGGER:-PT1H
END:VALARM
END:VEVENT
END:VCALENDAR
