BEGIN:VCALENDAR
VERSION:2.0
CALSCALE:GREGORIAN
PRODID:adamgibbons/ics
METHOD:PUBLISH
X-PUBLISHED-TTL:PT1H
BEGIN:VEVENT
UID:151@dubagenda.top
SUMMARY:Dimanch'Entier #7 // Bredda's Vibration
DTSTAMP:20260421T151306Z
DTSTART:20260517T100000Z
DTEND:20260517T180000Z
DESCRIPTION:❤️ EVENEMENT GRATUIT ❤️\nALOA cher(es) gourgandines et gourgandin
	s ! ❤️\nLe Manège en Chantier est aux anges de vous annoncer la Septième Éd
	ition du\nDIMANCH'ENTIER 🥳🔥❤️‍🔥\nÇa se passera de 12h à 20h à Nort-sur-Erdre 
	sur le terrain en herbe entre la\nsalle Cap Nort et La Garenne ( Espace ca
	mping NDLE ❤️ ) !! 🌴☀️\nTu ne connais pas encore la formule ? 😱 Dimanche\, s
	oleil\, jeux\, détente\,\nmusique... Bref\, un moment convivial\, idéal po
	ur profiter du printemps tant\nattendu\, en famille et/ou avec les copines
	/copains !! 🌞🌳🌲\nTu pourras y pique-niquer\, danser\, jouer\, t'y balader 
	et faire le plein de GOOD\nVIBES ✌️\n💥 Programme 💥 :\n▪︎ Bredda's Vibration 
	Sound System FOR EVER ❤️🔥🔊\n- Wait for Line Up\n▪︎ Bar VERY COOL PRICE 🍻🥂 🤗(
	CB acceptée)\n▪︎ Foodtruck 🌮🍲\n▪︎ Jeux en bois 🤸 (merci de prendre soins d'e
	ux et de veiller à ne pas\ndisperser les palets\, billes et autres petits 
	éléments..).\nN'hésites pas à emmener t'es propre jeux si tu le désire 😉\n
	▪︎ Chill Out ( Espace de détente) 🏕🏖\nNous serons dans un joli terrain au b
	ord de la forêt de La Garenne\, alors bien\névidemment nous mettrons tout 
	à disposition pour vos déchets\, mais on compte sur\nvous pour prendre soi
	n et respecter ce joli lieu ! 🌿\nPlus d'infos très vite ! SO STAY TUNED !!
	 ❤️🔥\n⚠️ Événement accessible à tous le monde !\n⚠️ Toilettes sèches sur plac
	e\n⚠️ Protection auditive obligatoire pour les enfant ⚠️\nOne Love ❤️
URL:https://dubagenda.top/event/dimanchentier-7-breddas-vibration
GEO:47.4372034;-1.5078791
LOCATION:44390 Nort-sur-Erdre // Salle Cap Nort - Rue d'Ardéa\, Nort-sur-Er
	dre\, Châteaubriant-Ancenis\, Loire-Atlantique\, Pays de la Loire\, France
	 métropolitaine\, 44390\, France
STATUS:CONFIRMED
CATEGORIES:Nantes,2026,Sound System
X-ALT-DESC;FMTTYPE=text/html:<p>❤️ EVENEMENT GRATUIT ❤️<br>ALOA cher(es) gour
	gandines et gourgandins ! ❤️<br>Le Manège en Chantier est aux anges de vous
	 annoncer la Septième Édition du DIMANCH'ENTIER 🥳🔥❤️‍🔥<br>Ça se passera de 12
	h à 20h à Nort-sur-Erdre sur le terrain en herbe entre la salle Cap Nort e
	t La Garenne ( Espace camping NDLE ❤️ ) !! 🌴☀️<br>Tu ne connais pas encore l
	a formule ? 😱 Dimanche, soleil, jeux, détente, musique... Bref, un moment 
	convivial, idéal pour profiter du printemps tant attendu, en famille et/ou
	 avec les copines/copains !! 🌞🌳🌲<br>Tu pourras y pique-niquer, danser, jou
	er, t'y balader et faire le plein de GOOD VIBES ✌️<br>💥 Programme 💥 :<br>▪︎ 
	Bredda's Vibration Sound System FOR EVER ❤️🔥🔊<br>- Wait for Line Up<br>▪︎ Ba
	r VERY COOL PRICE 🍻🥂 🤗(CB acceptée)<br>▪︎ Foodtruck 🌮🍲<br>▪︎ Jeux en bois 🤸 
	(merci de prendre soins d'eux et de veiller à ne pas disperser les palets,
	 billes et autres petits éléments..).<br>N'hésites pas à emmener t'es prop
	re jeux si tu le désire 😉<br>▪︎ Chill Out ( Espace de détente) 🏕🏖<br>Nous s
	erons dans un joli terrain au bord de la forêt de La Garenne, alors bien é
	videmment nous mettrons tout à disposition pour vos déchets, mais on compt
	e sur vous pour prendre soin et respecter ce joli lieu ! 🌿<br>Plus d'infos
	 très vite ! SO STAY TUNED !! ❤️🔥<br>⚠️ Événement accessible à tous le monde
	 !<br>⚠️ Toilettes sèches sur place<br>⚠️ Protection auditive obligatoire po
	ur les enfant ⚠️<br>One Love ❤️</p>
BEGIN:VALARM
ACTION:DISPLAY
DESCRIPTION:Dimanch'Entier #7 // Bredda's Vibration
TRIGGER:-PT1H
END:VALARM
END:VEVENT
END:VCALENDAR
