BEGIN:VCALENDAR
VERSION:2.0
CALSCALE:GREGORIAN
PRODID:adamgibbons/ics
METHOD:PUBLISH
X-PUBLISHED-TTL:PT1H
BEGIN:VEVENT
UID:178@dubagenda.top
SUMMARY:Diff'Art Dub Club #4 // Macka B Marina P Eeyun Purkins
DTSTAMP:20260421T122152Z
DTSTART:20260425T183000Z
DTEND:20260426T020000Z
DESCRIPTION:15€ adhérent·es Diff'art\n18€ prévente\n20€ sur place\nFoodtruc
	k : Pizzéria La Phocéenne
URL:https://dubagenda.top/event/diffart-dub-club-4-macka-b-marina-p-eeyun-p
	urkins
GEO:46.6506398;-0.2380441
LOCATION:79200 Parthenay // Salle Diff'Art - Rue du Président Salvador Alle
	nde\, Le Grand Rouhé\, Le Theatre\, Parthenay\, Deux-Sèvres\, Nouvelle-Aqu
	itaine\, France métropolitaine\, 79200\, France
STATUS:CONFIRMED
CATEGORIES:79,Sound System,2026
X-ALT-DESC;FMTTYPE=text/html:<p>15€ adhérent·es Diff'art<br>18€ prévente<br
	>20€ sur place<br>Foodtruck : Pizzéria La Phocéenne</p>
BEGIN:VALARM
ACTION:DISPLAY
DESCRIPTION:Diff'Art Dub Club #4 // Macka B Marina P Eeyun Purkins
TRIGGER:-PT1H
END:VALARM
END:VEVENT
END:VCALENDAR
